{"text_format":"1","workbook":"xlsx","n_sheets":3,"sheets":["How to use","Data","Fig"],"not_rendered":{"charts":3,"images":0,"macros":1,"external_links":0,"defined_names":0,"comments":0,"pivot_tables":0},"unopened":[],"bounds":{"document_bytes":16777216,"sheet_cells":100000,"rows_first":2000,"rows_last":500,"rows_between":2000,"halvings":0,"cell_chars":16384,"cell_head_chars":4096},"cells_cut":0,"cells_raw":0,"read":"whole","date_system":"1900"}

{"sheet":"How to use","index":0,"n_rows":15,"n_cols":15,"rows_kept":15,"cut":false,"hidden":false,"merged":[]}
[]
[]
[null,"STEP 1","Define","radius of MT",8.1999999999999993]
[null,null,null,"protofilament number",13]
[null,null,null,"Tubulin periodicity",4]
[]
[null,"STEP 2","Define the angles of "]
[null,null,null,"MT planer tilting",0]
[null,null,null,"MT vertical tilting",-10]
[null,null,null,"MT rotation",0]
[]
[null,"STEP 3","Execute the following macros",null,"AUTO"]
[null,null,null,"Or Ctrl+Shift+A",null,null,null,null,null,null,null,null,null,null,0]
[]
[null,"Please, MACRO function of your EXCEL on!"]

{"sheet":"Data","index":1,"n_rows":164,"n_cols":34,"rows_kept":164,"cut":false,"hidden":false,"merged":[]}
[1,2,3,4,5,6,7,8,9,10,11,12,13,14,15,16,17,18,19,20,21,3,4,5,25,26,27,"α",29,30,31,"β",33,34]
[null,null,"Original posiiton",null,null,null,"Y-rotation",null,null,"X-rotation",null,null,null,null,null,null,null,null,null,null,null,"Original posiiton"]
["zz","r (rad)","x","y","z",null,"X","Y","Z","X","Y","Z","αβ","MinY",null,null,null,null,"Time",null,null,"x","y","z","αβ",null,null,"x","y","z",null,"x","y","z"]
[{"$f":"$S$12+0","v":0},{"$f":"'How to use'!E3","v":8.1999999999999993},{"$f":"IF(A4<$B$7,$B$4*COS(A4/$B$7*2*PI()+$B$19),\"\")","v":8.1999999999999993},{"$f":"IF(A4<$B$7,$B$4*SIN(A4/$B$7*2*PI()+$B$19),\"\")","v":0},{"$f":"IF(A4<$B$7,$B$10*3/$B$7*A4,\"\")","v":0},null,{"$f":"IF(C4<>\"\",C4*COS($B$13)-E4*SIN($B$13),\"\")","v":8.1999999999999993},{"$f":"IF(C4<>\"\",D4,\"\")","v":0},{"$f":"IF(C4<>\"\",C4*SIN($B$13)+E4*COS($B$13),\"\")","v":0},{"$f":"IF(C4<>\"\",G4,0)","v":8.1999999999999993},{"$f":"IF(C4<>\"\",H4*COS($B$16)-I4*SIN($B$16),$N$4)","v":0},{"$f":"IF(C4<>\"\",H4*SIN($B$16)+I4*COS($B$16),-1000)","v":0},0,-50,null,null,null,null,10000,null,null,0,-50,-1000,0,null,null,{"$f":"V4","v":0},{"$f":"W4","v":-50},{"$f":"IF(Y4=0,-1000,X4)","v":-1000},1,{"$f":"V4","v":0},{"$f":"W4","v":-50},{"$f":"IF(Y4=1,-1000,X4)","v":-1000}]
[{"$f":"$S$12+1","v":1},null,{"$f":"IF(A5<$B$7,$B$4*COS(A5/$B$7*2*PI()+$B$19),\"\")","v":7.2607394103563205},{"$f":"IF(A5<$B$7,$B$4*SIN(A5/$B$7*2*PI()+$B$19),\"\")","v":3.8107300107589017},{"$f":"IF(A5<$B$7,$B$10*3/$B$7*A5,\"\")","v":0.92307692307692313},null,{"$f":"IF(C5<>\"\",C5*COS($B$13)-E5*SIN($B$13),\"\")","v":7.2607394103563205},{"$f":"IF(C5<>\"\",D5,\"\")","v":3.8107300107589017},{"$f":"IF(C5<>\"\",C5*SIN($B$13)+E5*COS($B$13),\"\")","v":0.92307692307692313},{"$f":"IF(C5<>\"\",G5,0)","v":7.2607394103563205},{"$f":"IF(C5<>\"\",H5*COS($B$16)-I5*SIN($B$16),$N$4)","v":-3.699648390153647},{"$f":"IF(C5<>\"\",H5*SIN($B$16)+I5*COS($B$16),-1000)","v":1.298590008451177},0,null,null,null,null,null,"Ang A",null,null,0,-50,-1000,0,null,null,{"$f":"V5","v":0},{"$f":"W5","v":-50},{"$f":"IF(Y5=0,-1000,X5)","v":-1000},2,{"$f":"V5","v":0},{"$f":"W5","v":-50},{"$f":"IF(Y5=1,-1000,X5)","v":-1000}]
[{"$f":"$S$12+2","v":2},"pfn",4.6581309231954773,6.748467700327982,1.8461538461538463,null,4.6581309231954773,6.748467700327982,1.8461538461538463,4.6581309231954773,-6.666793778494549,2.122253764530778,0,null,null,null,null,null,{"$f":"B13","v":0},null,null,0,-50,-1000,0,null,null,0,-50,-1000,3,0,-50,-1000]
[{"$f":"$S$12+3","v":3},{"$f":"'How to use'!E4","v":13},0.98840077809364857,8.1402127676040426,2.7692307692307692,null,0.98840077809364857,8.1402127676040426,2.7692307692307692,0.98840077809364857,-8.336740773307131,2.1048648968037607,0,null,null,null,null,null,"Ang B",null,null,0,-50,-1000,0,null,null,0,-50,-1000,4,0,-50,-1000]
[{"$f":"$S$12+4","v":4},null,-2.9077600737487921,7.6671331900204009,3.6923076923076925,null,-2.9077600737487921,7.6671331900204009,3.6923076923076925,-2.9077600737487921,-8.4419665018978325,1.0729720541662933,0,null,null,null,null,null,{"$f":"B16","v":-10},null,null,0,-50,-1000,0,null,null,0,-50,-1000,5,0,-50,-1000]
[{"$f":"$S$12+5","v":5},"Tub p",-6.1377881350030297,5.4376057975745198,4.6153846153846159,null,-6.1377881350030297,5.4376057975745198,4.6153846153846159,-6.1377881350030297,-7.0734068767290808,-0.91446547993173644,0,null,null,null,null,null,"Rate",null,null,0,-50,-1000,1,null,null,0,-50,-1000,6,0,-50,-1000]
[{"$f":"$S$12+6","v":6},{"$f":"'How to use'!E5","v":4},-7.9617229028936256,1.9623884471579729,5.5384615384615383,null,-7.9617229028936256,1.9623884471579729,5.5384615384615383,-7.9617229028936256,-4.6596242737706994,-3.579584648788698,0,null,null,null,null,null,1000,null,null,0,-50,-1000,1,null,null,0,-50,-1000,7,0,-50,-1000]
[{"$f":"$S$12+7","v":7},null,-7.9617229028936265,-1.9623884471579709,6.4615384615384617,null,-7.9617229028936265,-1.9623884471579709,6.4615384615384617,-7.9617229028936265,-1.8686290569017394,-6.4892737001287291,0,null,null,null,null,null,"n",null,null,0,-50,-1000,1,null,null,0,-50,-1000,8,0,-50,-1000]
[{"$f":"$S$12+8","v":8},"仰角A",-6.137788135003027,-5.4376057975745207,7.384615384615385,null,-6.137788135003027,-5.4376057975745207,7.384615384615385,-6.137788135003027,0.54515354605664346,-9.1543928689856937,0,null,null,null,null,null,0,null,null,0,-50,-1000,1,null,null,0,-50,-1000,9,0,-50,-1000]
[{"$f":"$S$12+9","v":9},{"$f":"'How to use'!E8","v":0},-2.9077600737487943,-7.6671331900204001,8.3076923076923084,null,-2.9077600737487943,-7.6671331900204001,8.3076923076923084,-2.9077600737487943,1.9137131712253934,-11.141830403083723,0,null,null,null,null,null,null,null,null,0,-50,-1000,1,null,null,0,-50,-1000,10,0,-50,-1000]
[{"$f":"$S$12+10","v":10},null,0.98840077809365012,-8.1402127676040426,9.2307692307692317,null,0.98840077809365012,-8.1402127676040426,9.2307692307692317,0.98840077809365012,1.8084874426346937,-12.173723245721192,0,null,null,null,null,null,null,null,null,0,-50,-1000,0,null,null,0,-50,-1000,11,0,-50,-1000]
[{"$f":"$S$12+11","v":11},"仰角B",4.6581309231954755,-6.7484677003279829,10.153846153846155,null,4.6581309231954755,-6.7484677003279829,10.153846153846155,4.6581309231954755,0.13854044782211083,-12.191112113448209,0,null,null,null,null,null,null,null,null,0,-50,-1000,0,null,null,0,-50,-1000,12,0,-50,-1000]
[{"$f":"$S$12+12","v":12},{"$f":"'How to use'!E9","v":-10},7.2607394103563214,-3.8107300107589004,11.076923076923077,null,7.2607394103563214,-3.8107300107589004,11.076923076923077,7.2607394103563214,-2.8286049405187916,-11.367448357368605,0,null,null,null,null,null,null,null,null,0,-50,-1000,0,null,null,0,-50,-1000,13,0,-50,-1000]
[{"$f":"$S$12+13","v":13},null,"","","",null,"","","",0,-50,-1000,0,null,null,null,null,null,null,null,null,0,-50,-1000,0,null,null,0,-50,-1000,14,0,-50,-1000]
[{"$f":"$S$12+14","v":14},"Rotation","","","",null,"","","",0,-50,-1000,0,null,null,null,null,null,null,null,null,0,-50,-1000,0,null,null,0,-50,-1000,15,0,-50,-1000]
[{"$f":"$S$12+15","v":15},{"$f":"'How to use'!E10","v":0},"","","",null,"","","",0,-50,-1000,0,null,null,null,null,null,null,null,null,0,-50,-1000,1,null,null,0,-50,-1000,16,0,-50,-1000]
[{"$f":"$S$12+16","v":16},null,"","","",null,"","","",0,-50,-1000,0,null,null,null,null,null,null,null,null,0,-50,-1000,1,null,null,0,-50,-1000,17,0,-50,-1000]
[{"$f":"$S$12+17","v":17},null,null,null,null,null,"","","",0,-50,-1000,0,null,null,null,null,null,null,null,null,0,-50,-1000,1,null,null,0,-50,-1000,18,0,-50,-1000]
[{"$f":"$S$12+18","v":18},null,{"$f":"C4","v":8.1999999999999993},{"$f":"D4","v":0},{"$f":"IF(D22<>\"\",E4+$B$10,\"\")","v":4},null,8.1999999999999993,0,4,8.1999999999999993,-2.1760844435574791,-3.3562861163058098,{"$f":"ABS(M4-1)","v":1},null,null,null,null,null,null,null,null,0,-50,-1000,1,null,null,0,-50,-1000,19,0,-50,-1000]
[{"$f":"$S$12+19","v":19},null,{"$f":"C5","v":7.2607394103563205},3.8107300107589017,{"$f":"IF(D23<>\"\",E5+$B$10,\"\")","v":4.9230769230769234},null,7.2607394103563205,3.8107300107589017,4.9230769230769234,7.2607394103563205,-5.8757328337111261,-2.0576961078546332,{"$f":"ABS(M5-1)","v":1},null,null,null,null,null,null,null,null,0,-50,-1000,1,null,null,0,-50,-1000,20,0,-50,-1000]
[{"$f":"$S$12+20","v":20},null,{"$f":"C6","v":4.6581309231954773},6.748467700327982,5.8461538461538467,null,4.6581309231954773,6.748467700327982,5.8461538461538467,4.6581309231954773,-8.842878222052029,-1.2340323517750327,1,null,null,null,null,null,null,null,null,0,-50,-1000,0,null,null,0,-50,-1000,21,0,-50,-1000]
[{"$f":"$S$12+21","v":21},null,{"$f":"C7","v":0.98840077809364857},8.1402127676040426,6.7692307692307692,null,0.98840077809364857,8.1402127676040426,6.7692307692307692,0.98840077809364857,-10.512825216864611,-1.2514212195020491,1,null,null,null,null,null,null,null,null,0,-50,-1000,0,null,null,0,-50,-1000,22,0,-50,-1000]
[{"$f":"$S$12+22","v":22},null,{"$f":"C8","v":-2.9077600737487921},7.6671331900204009,7.6923076923076925,null,-2.9077600737487921,7.6671331900204009,7.6923076923076925,-2.9077600737487921,-10.618050945455312,-2.2833140621395165,1,null,null,null,null,null,null,null,null,0,-50,-1000,0,null,null,0,-50,-1000,23,0,-50,-1000]
[{"$f":"$S$12+23","v":23},null,{"$f":"C9","v":-6.1377881350030297},5.4376057975745198,8.6153846153846168,null,-6.1377881350030297,5.4376057975745198,8.6153846153846168,-6.1377881350030297,-9.249491320286559,-4.2707515962375471,1,null,null,null,null,null,null,null,null,0,-50,-1000,0,null,null,0,-50,-1000,24,0,-50,-1000]
[{"$f":"$S$12+24","v":24},null,{"$f":"C10","v":-7.9617229028936256},1.9623884471579729,9.5384615384615383,null,-7.9617229028936256,1.9623884471579729,9.5384615384615383,-7.9617229028936256,-6.8357087173281776,-6.9358707650945073,1,null,null,null,null,null,null,null,null,0,-50,-1000,0,null,null,0,-50,-1000,25,0,-50,-1000]
[{"$f":"$S$12+25","v":25},null,{"$f":"C11","v":-7.9617229028936265},-1.9623884471579709,10.461538461538462,null,-7.9617229028936265,-1.9623884471579709,10.461538461538462,-7.9617229028936265,-4.0447135004592187,-9.8455598164345393,1,null,null,null,null,null,null,null,null,0,-50,-1000,1,null,null,0,-50,-1000,26,0,-50,-1000]
[{"$f":"$S$12+26","v":26},null,{"$f":"C12","v":-6.137788135003027},-5.4376057975745207,11.384615384615385,null,-6.137788135003027,-5.4376057975745207,11.384615384615385,-6.137788135003027,-1.6309308975008356,-12.510678985291502,1,null,null,null,null,null,null,null,null,0,-50,-1000,1,null,null,0,-50,-1000,27,0,-50,-1000]
[{"$f":"$S$12+27","v":27},null,{"$f":"C13","v":-2.9077600737487943},-7.6671331900204001,12.307692307692308,null,-2.9077600737487943,-7.6671331900204001,12.307692307692308,-2.9077600737487943,-0.26237127233208568,-14.498116519389534,1,null,null,null,null,null,null,null,null,0,-50,-1000,1,null,null,0,-50,-1000,28,0,-50,-1000]
[{"$f":"$S$12+28","v":28},null,{"$f":"C14","v":0.98840077809365012},-8.1402127676040426,13.230769230769232,null,0.98840077809365012,-8.1402127676040426,13.230769230769232,0.98840077809365012,-0.36759700092278536,-15.530009362027002,1,null,null,null,null,null,null,null,null,0,-50,-1000,1,null,null,0,-50,-1000,29,0,-50,-1000]
[{"$f":"$S$12+29","v":29},null,{"$f":"C15","v":4.6581309231954755},-6.7484677003279829,14.153846153846155,null,4.6581309231954755,-6.7484677003279829,14.153846153846155,4.6581309231954755,-2.0375439957353683,-15.54739822975402,1,null,null,null,null,null,null,null,null,0,-50,-1000,1,null,null,0,-50,-1000,30,0,-50,-1000]
[{"$f":"$S$12+30","v":30},null,{"$f":"C16","v":7.2607394103563214},-3.8107300107589004,15.076923076923077,null,7.2607394103563214,-3.8107300107589004,15.076923076923077,7.2607394103563214,-5.0046893840762703,-14.723734473674416,1,null,null,null,null,null,null,null,null,0,-50,-1000,0,null,null,0,-50,-1000,31,0,-50,-1000]
[{"$f":"$S$12+31","v":31},null,{"$f":"C17","v":""},"","",null,"","","",0,-50,-1000,1,null,null,null,null,null,null,null,null,0,-50,-1000,0,null,null,0,-50,-1000,32,0,-50,-1000]
[{"$f":"$S$12+32","v":32},null,{"$f":"C18","v":""},"","",null,"","","",0,-50,-1000,1,null,null,null,null,null,null,null,null,0,-50,-1000,0,null,null,0,-50,-1000,33,0,-50,-1000]
[{"$f":"$S$12+33","v":33},null,{"$f":"C19","v":""},"","",null,"","","",0,-50,-1000,1,null,null,null,null,null,null,null,null,0,-50,-1000,0,null,null,0,-50,-1000,34,0,-50,-1000]
[{"$f":"$S$12+34","v":34},null,{"$f":"C20","v":""},"","",null,"","","",0,-50,-1000,1,null,null,null,null,null,null,null,null,0,-50,-1000,0,null,null,0,-50,-1000,35,0,-50,-1000]
[{"$f":"$S$12+35","v":35},null,null,null,null,null,"","","",0,-50,-1000,1,null,null,null,null,null,null,null,null,0,-50,-1000,1,null,null,0,-50,-1000,36,0,-50,-1000]
[{"$f":"$S$12+36","v":36},null,{"$f":"C22","v":8.1999999999999993},{"$f":"D22","v":0},{"$f":"IF(D40<>\"\",E22+$B$10,\"\")","v":8},null,8.1999999999999993,0,8,8.1999999999999993,-4.3521688871149582,-6.7125722326116195,0,null,null,null,null,null,null,null,null,0,-50,-1000,1,null,null,0,-50,-1000,37,0,-50,-1000]
[{"$f":"$S$12+37","v":37},null,{"$f":"C23","v":7.2607394103563205},3.8107300107589017,{"$f":"IF(D41<>\"\",E23+$B$10,\"\")","v":8.9230769230769234},null,7.2607394103563205,3.8107300107589017,8.9230769230769234,7.2607394103563205,-8.0518172772686043,-5.4139822241604421,0,null,null,null,null,null,null,null,null,0,-50,-1000,1,null,null,0,-50,-1000,38,0,-50,-1000]
[{"$f":"$S$12+38","v":38},null,{"$f":"C24","v":4.6581309231954773},6.748467700327982,9.8461538461538467,null,4.6581309231954773,6.748467700327982,9.8461538461538467,4.6581309231954773,-11.018962665609507,-4.5903184680808433,0,null,null,null,null,null,null,null,null,0,-50,-1000,1,null,null,0,-50,-1000,39,0,-50,-1000]
[{"$f":"$S$12+39","v":39},null,{"$f":"C25","v":0.98840077809364857},8.1402127676040426,10.76923076923077,null,0.98840077809364857,8.1402127676040426,10.76923076923077,0.98840077809364857,-12.688909660422091,-4.6077073358078602,0,null,null,null,null,null,null,null,null,0,-50,-1000,1,null,null,0,-50,-1000,40,0,-50,-1000]
[{"$f":"$S$12+40","v":40},null,{"$f":"C26","v":-2.9077600737487921},7.6671331900204009,11.692307692307693,null,-2.9077600737487921,7.6671331900204009,11.692307692307693,-2.9077600737487921,-12.794135389012791,-5.6396001784453276,0,null,null,null,null,null,null,null,null,0,-50,-1000,0,null,null,0,-50,-1000,41,0,-50,-1000]
[{"$f":"$S$12+41","v":41},null,{"$f":"C27","v":-6.1377881350030297},5.4376057975745198,12.615384615384617,null,-6.1377881350030297,5.4376057975745198,12.615384615384617,-6.1377881350030297,-11.425575763844039,-7.6270377125433573,0,null,null,null,null,null,null,null,null,0,-50,-1000,0,null,null,0,-50,-1000,42,0,-50,-1000]
[{"$f":"$S$12+42","v":42},null,{"$f":"C28","v":-7.9617229028936256},1.9623884471579729,13.538461538461538,null,-7.9617229028936256,1.9623884471579729,13.538461538461538,-7.9617229028936256,-9.0117931608856576,-10.292156881400318,0,null,null,null,null,null,null,null,null,0,-50,-1000,0,null,null,0,-50,-1000,43,0,-50,-1000]
[{"$f":"$S$12+43","v":43},null,{"$f":"C29","v":-7.9617229028936265},-1.9623884471579709,14.461538461538462,null,-7.9617229028936265,-1.9623884471579709,14.461538461538462,-7.9617229028936265,-6.2207979440166978,-13.201845932740349,0,null,null,null,null,null,null,null,null,0,-50,-1000,0,null,null,0,-50,-1000,44,0,-50,-1000]
[{"$f":"$S$12+44","v":44},null,{"$f":"C30","v":-6.137788135003027},-5.4376057975745207,15.384615384615385,null,-6.137788135003027,-5.4376057975745207,15.384615384615385,-6.137788135003027,-3.8070153410583147,-15.866965101597312,0,null,null,null,null,null,null,null,null,-2.9077600737487921,-25.850642050357663,-25.777316876280185,0,null,null,-2.9077600737487921,-25.850642050357663,-1000,45,-2.9077600737487921,-25.850642050357663,-25.777316876280185]
[{"$f":"$S$12+45","v":45},null,{"$f":"C31","v":-2.9077600737487943},-7.6671331900204001,16.307692307692307,null,-2.9077600737487943,-7.6671331900204001,16.307692307692307,-2.9077600737487943,-2.438455715889563,-17.85440263569534,0,null,null,null,null,null,null,null,null,0.98840077809364857,-25.745416321766967,-24.74542403364272,0,null,null,0.98840077809364857,-25.745416321766967,-1000,46,0.98840077809364857,-25.745416321766967,-24.74542403364272]
[{"$f":"$S$12+46","v":46},null,{"$f":"C32","v":0.98840077809365012},-8.1402127676040426,17.230769230769234,null,0.98840077809365012,-8.1402127676040426,17.230769230769234,0.98840077809365012,-2.5436814444802645,-18.886295478332812,0,null,null,null,null,null,null,null,null,-6.1377881350030297,-24.482082425188914,-27.76475441037821,0,null,null,-6.1377881350030297,-24.482082425188914,-1000,47,-6.1377881350030297,-24.482082425188914,-27.76475441037821]
[{"$f":"$S$12+47","v":47},null,{"$f":"C33","v":4.6581309231954755},-6.7484677003279829,18.153846153846153,null,4.6581309231954755,-6.7484677003279829,18.153846153846153,4.6581309231954755,-4.2136284392928456,-18.903684346059826,0,null,null,null,null,null,null,null,null,4.6581309231954773,-24.075469326954384,-24.728035165915699,0,null,null,4.6581309231954773,-24.075469326954384,-1000,48,4.6581309231954773,-24.075469326954384,-24.728035165915699]
[{"$f":"$S$12+48","v":48},null,{"$f":"C34","v":7.2607394103563214},-3.8107300107589004,19.076923076923077,null,7.2607394103563214,-3.8107300107589004,19.076923076923077,7.2607394103563214,-7.1807738276337485,-18.080020589980222,0,null,null,null,null,null,null,null,null,-2.9077600737487921,-23.674557606800185,-22.421030759974375,1,null,null,-2.9077600737487921,-23.674557606800185,-22.421030759974375,49,-2.9077600737487921,-23.674557606800185,-1000]
[{"$f":"$S$12+49","v":49},null,{"$f":"C35","v":""},"","",null,"","","",0,-50,-1000,0,null,null,null,null,null,null,null,null,0.98840077809364857,-23.569331878209486,-21.389137917336907,1,null,null,0.98840077809364857,-23.569331878209486,-21.389137917336907,50,0.98840077809364857,-23.569331878209486,-1000]
[{"$f":"$S$12+50","v":50},null,{"$f":"C36","v":""},"","",null,"","","",0,-50,-1000,0,null,null,null,null,null,null,null,null,-6.1377881350030297,-22.305997981631432,-24.408468294072399,1,null,null,-6.1377881350030297,-22.305997981631432,-24.408468294072399,51,-6.1377881350030297,-22.305997981631432,-1000]
[{"$f":"$S$12+51","v":51},null,{"$f":"C37","v":""},"","",null,"","","",0,-50,-1000,0,null,null,null,null,null,null,null,null,-7.9617229028936256,-22.068299822230532,-30.429873579235178,0,null,null,-7.9617229028936256,-22.068299822230532,-1000,52,-7.9617229028936256,-22.068299822230532,-30.429873579235178]
[{"$f":"$S$12+52","v":52},null,{"$f":"C38","v":""},"","",null,"","","",0,-50,-1000,0,null,null,null,null,null,null,null,null,4.6581309231954773,-21.899384883396905,-21.371749049609889,1,null,null,4.6581309231954773,-21.899384883396905,-21.371749049609889,53,4.6581309231954773,-21.899384883396905,-1000]
[{"$f":"$S$12+53","v":53},null,null,null,null,null,"","","",0,-50,-1000,0,null,null,null,null,null,null,null,null,-2.9077600737487921,-21.498473163242707,-19.064744643668565,0,null,null,-2.9077600737487921,-21.498473163242707,-1000,54,-2.9077600737487921,-21.498473163242707,-19.064744643668565]
[{"$f":"$S$12+54","v":54},null,{"$f":"C40","v":8.1999999999999993},{"$f":"D40","v":0},{"$f":"IF(D58<>\"\",E40+$B$10,\"\")","v":12},null,8.1999999999999993,0,12,8.1999999999999993,-6.5282533306724373,-10.068858348917429,1,null,null,null,null,null,null,null,null,0.98840077809364857,-21.393247434652007,-18.032851801031097,0,null,null,0.98840077809364857,-21.393247434652007,-1000,55,0.98840077809364857,-21.393247434652007,-18.032851801031097]
[{"$f":"$S$12+55","v":55},null,{"$f":"C41","v":7.2607394103563205},3.8107300107589017,{"$f":"IF(D59<>\"\",E41+$B$10,\"\")","v":12.923076923076923},null,7.2607394103563205,3.8107300107589017,12.923076923076923,7.2607394103563205,-10.227901720826084,-8.7702683404662523,1,null,null,null,null,null,null,null,null,7.2607394103563205,-21.108323938613477,-25.551698921995296,0,null,null,7.2607394103563205,-21.108323938613477,-1000,56,7.2607394103563205,-21.108323938613477,-25.551698921995296]
[{"$f":"$S$12+56","v":56},null,{"$f":"C42","v":4.6581309231954773},6.748467700327982,13.846153846153847,null,4.6581309231954773,6.748467700327982,13.846153846153847,4.6581309231954773,-13.195047109166985,-7.9466045843866517,1,null,null,null,null,null,null,null,null,7.2607394103563214,-20.237280488978627,-38.21773728781509,0,null,null,7.2607394103563214,-20.237280488978627,-1000,57,7.2607394103563214,-20.237280488978627,-38.21773728781509]
[{"$f":"$S$12+57","v":57},null,{"$f":"C43","v":0.98840077809364857},8.1402127676040426,14.76923076923077,null,0.98840077809364857,8.1402127676040426,14.76923076923077,0.98840077809364857,-14.864994103979569,-7.9639934521136686,1,null,null,null,null,null,null,null,null,-6.1377881350030297,-20.129913538073957,-21.052182177766593,0,null,null,-6.1377881350030297,-20.129913538073957,-1000,58,-6.1377881350030297,-20.129913538073957,-21.052182177766593]
[{"$f":"$S$12+58","v":58},null,{"$f":"C44","v":-2.9077600737487921},7.6671331900204009,15.692307692307693,null,-2.9077600737487921,7.6671331900204009,15.692307692307693,-2.9077600737487921,-14.970219832570271,-8.9958862947511378,1,null,null,null,null,null,null,null,null,-7.9617229028936256,-19.892215378673054,-27.073587462929368,1,null,null,-7.9617229028936256,-19.892215378673054,-27.073587462929368,59,-7.9617229028936256,-19.892215378673054,-1000]
[{"$f":"$S$12+59","v":59},null,{"$f":"C45","v":-6.1377881350030297},5.4376057975745198,16.615384615384617,null,-6.1377881350030297,5.4376057975745198,16.615384615384617,-6.1377881350030297,-13.601660207401519,-10.983323828849167,1,null,null,null,null,null,null,null,null,4.6581309231954773,-19.723300439839424,-18.015462933304079,0,null,null,4.6581309231954773,-19.723300439839424,-1000,60,4.6581309231954773,-19.723300439839424,-18.015462933304079]
[{"$f":"$S$12+60","v":60},null,{"$f":"C46","v":-7.9617229028936256},1.9623884471579729,17.53846153846154,null,-7.9617229028936256,1.9623884471579729,17.53846153846154,-7.9617229028936256,-11.187877604443138,-13.64844299770613,1,null,null,null,null,null,null,null,null,-2.9077600737487921,-19.322388719685229,-15.708458527362758,1,null,null,-2.9077600737487921,-19.322388719685229,-15.708458527362758,61,-2.9077600737487921,-19.322388719685229,-1000]
[{"$f":"$S$12+61","v":61},null,{"$f":"C47","v":-7.9617229028936265},-1.9623884471579709,18.46153846153846,null,-7.9617229028936265,-1.9623884471579709,18.46153846153846,-7.9617229028936265,-8.3968823875741769,-16.558132049046158,1,null,null,null,null,null,null,null,null,-7.9617229028936265,-19.277304605361572,-33.339562630575202,0,null,null,-7.9617229028936265,-19.277304605361572,-1000,62,-7.9617229028936265,-19.277304605361572,-33.339562630575202]
[{"$f":"$S$12+62","v":62},null,{"$f":"C48","v":-6.137788135003027},-5.4376057975745207,19.384615384615387,null,-6.137788135003027,-5.4376057975745207,19.384615384615387,-6.137788135003027,-5.9830997846157947,-19.223251217903126,1,null,null,null,null,null,null,null,null,0.98840077809364857,-19.217162991094529,-14.676565684725286,1,null,null,0.98840077809364857,-19.217162991094529,-14.676565684725286,63,0.98840077809364857,-19.217162991094529,-1000]
[{"$f":"$S$12+63","v":63},null,{"$f":"C49","v":-2.9077600737487943},-7.6671331900204001,20.307692307692307,null,-2.9077600737487943,-7.6671331900204001,20.307692307692307,-2.9077600737487943,-4.614540159447043,-21.21068875200115,1,null,null,null,null,null,null,null,null,7.2607394103563205,-18.932239495056002,-22.195412805689489,1,null,null,7.2607394103563205,-18.932239495056002,-22.195412805689489,64,7.2607394103563205,-18.932239495056002,-1000]
[{"$f":"$S$12+64","v":64},null,{"$f":"C50","v":0.98840077809365012},-8.1402127676040426,21.230769230769234,null,0.98840077809365012,-8.1402127676040426,21.230769230769234,0.98840077809365012,-4.7197658880377444,-22.242581594638622,1,null,null,null,null,null,null,null,null,7.2607394103563214,-18.061196045421148,-34.86145117150928,1,null,null,7.2607394103563214,-18.061196045421148,-34.86145117150928,65,7.2607394103563214,-18.061196045421148,-1000]
[{"$f":"$S$12+65","v":65},null,{"$f":"C51","v":4.6581309231954755},-6.7484677003279829,22.153846153846153,null,{"$f":"IF(C69<>\"\",C69*COS($B$13)-E69*SIN($B$13),\"\")","v":4.6581309231954755},{"$f":"IF(C69<>\"\",D69,\"\")","v":-6.7484677003279829},{"$f":"IF(C69<>\"\",C69*SIN($B$13)+E69*COS($B$13),\"\")","v":22.153846153846153},{"$f":"IF(C69<>\"\",G69,0)","v":4.6581309231954755},{"$f":"IF(C69<>\"\",H69*COS($B$16)-I69*SIN($B$16),$N$4)","v":-6.3897128828503256},{"$f":"IF(C69<>\"\",H69*SIN($B$16)+I69*COS($B$16),-1000)","v":-22.259970462365636},1,null,null,null,null,null,null,null,null,-6.1377881350030297,-17.953829094516479,-17.695896061460786,1,null,null,{"$f":"V69","v":-6.1377881350030297},{"$f":"W69","v":-17.953829094516479},{"$f":"IF(Y69=0,-1000,X69)","v":-17.695896061460786},66,{"$f":"V69","v":-6.1377881350030297},{"$f":"W69","v":-17.953829094516479},{"$f":"IF(Y69=1,-1000,X69)","v":-1000}]
[{"$f":"$S$12+66","v":66},null,{"$f":"C52","v":7.2607394103563214},-3.8107300107589004,23.076923076923077,null,7.2607394103563214,-3.8107300107589004,23.076923076923077,7.2607394103563214,-9.3568582711912285,-21.436306706286032,1,null,null,null,null,null,null,null,null,-7.9617229028936256,-17.716130935115576,-23.717301346623557,0,null,null,-7.9617229028936256,-17.716130935115576,-1000,67,-7.9617229028936256,-17.716130935115576,-23.717301346623557]
[{"$f":"$S$12+67","v":67},null,{"$f":"C53","v":""},"","",null,"","","",0,-50,-1000,1,null,null,null,null,null,null,null,null,4.6581309231954773,-17.547215996281945,-14.65917681699827,1,null,null,4.6581309231954773,-17.547215996281945,-14.65917681699827,68,4.6581309231954773,-17.547215996281945,-1000]
[{"$f":"$S$12+68","v":68},null,{"$f":"C54","v":""},"","",null,"","","",0,-50,-1000,1,null,null,null,null,null,null,null,null,8.1999999999999993,-17.408675548459833,-26.850288930446478,0,null,null,8.1999999999999993,-17.408675548459833,-1000,69,8.1999999999999993,-17.408675548459833,-26.850288930446478]
[{"$f":"$S$12+69","v":69},null,{"$f":"C55","v":""},"","",null,"","","",0,-50,-1000,1,null,null,null,null,null,null,null,null,4.6581309231954755,-17.270135100637724,-39.04140104389468,0,null,null,4.6581309231954755,-17.270135100637724,-1000,70,4.6581309231954755,-17.270135100637724,-39.04140104389468]
[{"$f":"$S$12+70","v":70},null,{"$f":"C56","v":""},"","",null,"","","",0,-50,-1000,1,null,null,null,null,null,null,null,null,-2.9077600737487921,-17.146304276127751,-12.352172411056948,0,null,null,-2.9077600737487921,-17.146304276127751,-1000,71,-2.9077600737487921,-17.146304276127751,-12.352172411056948]
[{"$f":"$S$12+71","v":71},null,null,null,null,null,"","","",0,-50,-1000,1,null,null,null,null,null,null,null,null,-7.9617229028936265,-17.10122016180409,-29.983276514269399,1,null,null,-7.9617229028936265,-17.10122016180409,-29.983276514269399,72,-7.9617229028936265,-17.10122016180409,-1000]
[{"$f":"$S$12+72","v":72},null,{"$f":"C58","v":8.1999999999999993},{"$f":"D58","v":0},{"$f":"IF(D76<>\"\",E58+$B$10,\"\")","v":16},null,8.1999999999999993,0,16,8.1999999999999993,-8.7043377742299164,-13.425144465223239,0,null,null,null,null,null,null,null,null,0.98840077809364857,-17.041078547537047,-11.32027956841948,0,null,null,0.98840077809364857,-17.041078547537047,-1000,73,0.98840077809364857,-17.041078547537047,-11.32027956841948]
[{"$f":"$S$12+73","v":73},null,{"$f":"C59","v":7.2607394103563205},3.8107300107589017,{"$f":"IF(D77<>\"\",E59+$B$10,\"\")","v":16.923076923076923},null,7.2607394103563205,3.8107300107589017,16.923076923076923,7.2607394103563205,-12.403986164383564,-12.126554456772062,0,null,null,null,null,null,null,null,null,-6.137788135003027,-16.86352200240319,-36.004681799432177,0,null,null,-6.137788135003027,-16.86352200240319,-1000,74,-6.137788135003027,-16.86352200240319,-36.004681799432177]
[{"$f":"$S$12+74","v":74},null,{"$f":"C60","v":4.6581309231954773},6.748467700327982,17.846153846153847,null,4.6581309231954773,6.748467700327982,17.846153846153847,4.6581309231954773,-15.371131552724465,-11.302890700692462,0,null,null,null,null,null,null,null,null,7.2607394103563205,-16.756155051498521,-18.839126689383679,0,null,null,7.2607394103563205,-16.756155051498521,-1000,75,7.2607394103563205,-16.756155051498521,-18.839126689383679]
[{"$f":"$S$12+75","v":75},null,{"$f":"C61","v":0.98840077809364857},8.1402127676040426,18.76923076923077,null,0.98840077809364857,8.1402127676040426,18.76923076923077,0.98840077809364857,-17.041078547537047,-11.32027956841948,0,null,null,null,null,null,null,null,null,7.2607394103563214,-15.885111601863668,-31.505165055203467,0,null,null,7.2607394103563214,-15.885111601863668,-1000,76,7.2607394103563214,-15.885111601863668,-31.505165055203467]
[{"$f":"$S$12+76","v":76},null,{"$f":"C62","v":-2.9077600737487921},7.6671331900204009,19.692307692307693,null,-2.9077600737487921,7.6671331900204009,19.692307692307693,-2.9077600737487921,-17.146304276127751,-12.352172411056948,0,null,null,null,null,null,null,null,null,-6.1377881350030297,-15.777744650958997,-14.339609945154978,0,null,null,-6.1377881350030297,-15.777744650958997,-1000,77,-6.1377881350030297,-15.777744650958997,-14.339609945154978]
[{"$f":"$S$12+77","v":77},null,{"$f":"C63","v":-6.1377881350030297},5.4376057975745198,20.615384615384617,null,-6.1377881350030297,5.4376057975745198,20.615384615384617,-6.1377881350030297,-15.777744650958997,-14.339609945154978,0,null,null,null,null,null,null,null,null,0.98840077809365012,-15.60018810582514,-39.024012176167673,0,null,null,0.98840077809365012,-15.60018810582514,-1000,78,0.98840077809365012,-15.60018810582514,-39.024012176167673]
[{"$f":"$S$12+78","v":78},null,{"$f":"C64","v":-7.9617229028936256},1.9623884471579729,21.53846153846154,null,-7.9617229028936256,1.9623884471579729,21.53846153846154,-7.9617229028936256,-13.363962048000616,-17.004729114011941,0,null,null,null,null,null,null,null,null,-7.9617229028936256,-15.540046491558096,-20.361015230317751,1,null,null,-7.9617229028936256,-15.540046491558096,-20.361015230317751,79,-7.9617229028936256,-15.540046491558096,-1000]
[{"$f":"$S$12+79","v":79},null,{"$f":"C65","v":-7.9617229028936265},-1.9623884471579709,22.46153846153846,null,-7.9617229028936265,-1.9623884471579709,22.46153846153846,-7.9617229028936265,-10.572966831131655,-19.914418165351968,0,null,null,null,null,null,null,null,null,-2.9077600737487943,-15.49496237723444,-37.992119333530198,0,null,null,-2.9077600737487943,-15.49496237723444,-1000,80,-2.9077600737487943,-15.49496237723444,-37.992119333530198]
[{"$f":"$S$12+80","v":80},null,{"$f":"C66","v":-6.137788135003027},-5.4376057975745207,23.384615384615387,null,-6.137788135003027,-5.4376057975745207,23.384615384615387,-6.137788135003027,-8.1591842281732738,-22.579537334208936,0,null,null,null,null,null,null,null,null,4.6581309231954773,-15.371131552724465,-11.302890700692462,0,null,null,4.6581309231954773,-15.371131552724465,-1000,81,4.6581309231954773,-15.371131552724465,-11.302890700692462]
[{"$f":"$S$12+81","v":81},null,{"$f":"C67","v":-2.9077600737487943},-7.6671331900204001,24.307692307692307,null,-2.9077600737487943,-7.6671331900204001,24.307692307692307,-2.9077600737487943,-6.7906246030045212,-24.566974868306961,0,null,null,null,null,null,null,null,null,8.1999999999999993,-15.232591104902355,-23.494002814140668,1,null,null,8.1999999999999993,-15.232591104902355,-23.494002814140668,82,8.1999999999999993,-15.232591104902355,-1000]
[{"$f":"$S$12+82","v":82},null,{"$f":"C68","v":0.98840077809365012},-8.1402127676040426,25.230769230769234,null,0.98840077809365012,-8.1402127676040426,25.230769230769234,0.98840077809365012,-6.8958503315952226,-25.598867710944432,0,null,null,null,null,null,null,null,null,4.6581309231954755,-15.09405065708024,-35.68511492758887,1,null,null,4.6581309231954755,-15.09405065708024,-35.68511492758887,83,4.6581309231954755,-15.09405065708024,-1000]
[{"$f":"$S$12+83","v":83},null,{"$f":"C69","v":4.6581309231954755},-6.7484677003279829,26.153846153846153,null,4.6581309231954755,-6.7484677003279829,26.153846153846153,4.6581309231954755,-8.5657973264078038,-25.616256578671447,{"$f":"ABS(M69-1)","v":0},null,null,null,null,null,null,null,null,-2.9077600737487921,-14.970219832570271,-8.9958862947511378,1,null,null,-2.9077600737487921,-14.970219832570271,-8.9958862947511378,84,-2.9077600737487921,-14.970219832570271,-1000]
[{"$f":"$S$12+84","v":84},null,{"$f":"C70","v":7.2607394103563214},-3.8107300107589004,27.076923076923077,null,7.2607394103563214,-3.8107300107589004,27.076923076923077,7.2607394103563214,-11.532942714748707,-24.792592822591843,0,null,null,null,null,null,null,null,null,-7.9617229028936265,-14.925135718246613,-26.626990397963588,0,null,null,-7.9617229028936265,-14.925135718246613,-1000,85,-7.9617229028936265,-14.925135718246613,-26.626990397963588]
[{"$f":"$S$12+85","v":85},null,{"$f":"C71","v":""},"","",null,"","","",0,-50,-1000,0,null,null,null,null,null,null,null,null,0.98840077809364857,-14.864994103979569,-7.9639934521136686,1,null,null,0.98840077809364857,-14.864994103979569,-7.9639934521136686,86,0.98840077809364857,-14.864994103979569,-1000]
[{"$f":"$S$12+86","v":86},null,{"$f":"C72","v":""},"","",null,"","","",0,-50,-1000,0,null,null,null,null,null,null,null,null,-6.137788135003027,-14.687437558845712,-32.64839568312636,1,null,null,-6.137788135003027,-14.687437558845712,-32.64839568312636,87,-6.137788135003027,-14.687437558845712,-1000]
[{"$f":"$S$12+87","v":87},null,{"$f":"C73","v":""},"","",null,"","","",0,-50,-1000,0,null,null,null,null,null,null,null,null,7.2607394103563205,-14.580070607941042,-15.482840573077871,1,null,null,7.2607394103563205,-14.580070607941042,-15.482840573077871,88,7.2607394103563205,-14.580070607941042,-1000]
[{"$f":"$S$12+88","v":88},null,{"$f":"C74","v":""},"","",null,"","","",0,-50,-1000,0,null,null,null,null,null,null,null,null,7.2607394103563214,-13.709027158306187,-28.148878938897653,1,null,null,7.2607394103563214,-13.709027158306187,-28.148878938897653,89,7.2607394103563214,-13.709027158306187,-1000]
[{"$f":"$S$12+89","v":89},null,null,null,null,null,"","","",0,-50,-1000,0,null,null,null,null,null,null,null,null,-6.1377881350030297,-13.601660207401519,-10.983323828849167,1,null,null,-6.1377881350030297,-13.601660207401519,-10.983323828849167,90,-6.1377881350030297,-13.601660207401519,-1000]
[{"$f":"$S$12+90","v":90},null,{"$f":"C76","v":8.1999999999999993},{"$f":"D76","v":0},{"$f":"IF(D94<>\"\",E76+$B$10,\"\")","v":20},null,8.1999999999999993,0,20,8.1999999999999993,-10.880422217787395,-16.781430581529047,1,null,null,null,null,null,null,null,null,0.98840077809365012,-13.424103662267662,-35.667726059861856,1,null,null,0.98840077809365012,-13.424103662267662,-35.667726059861856,91,0.98840077809365012,-13.424103662267662,-1000]
[{"$f":"$S$12+91","v":91},null,{"$f":"C77","v":7.2607394103563205},3.8107300107589017,{"$f":"IF(D95<>\"\",E77+$B$10,\"\")","v":20.923076923076923},null,7.2607394103563205,3.8107300107589017,20.923076923076923,7.2607394103563205,-14.580070607941042,-15.482840573077871,1,null,null,null,null,null,null,null,null,-7.9617229028936256,-13.363962048000616,-17.004729114011941,0,null,null,-7.9617229028936256,-13.363962048000616,-1000,92,-7.9617229028936256,-13.363962048000616,-17.004729114011941]
[{"$f":"$S$12+92","v":92},null,{"$f":"C78","v":4.6581309231954773},6.748467700327982,21.846153846153847,null,4.6581309231954773,6.748467700327982,21.846153846153847,4.6581309231954773,-17.547215996281945,-14.65917681699827,1,null,null,null,null,null,null,null,null,-2.9077600737487943,-13.318877933676958,-34.635833217224388,1,null,null,-2.9077600737487943,-13.318877933676958,-34.635833217224388,93,-2.9077600737487943,-13.318877933676958,-1000]
[{"$f":"$S$12+93","v":93},null,{"$f":"C79","v":0.98840077809364857},8.1402127676040426,22.76923076923077,null,0.98840077809364857,8.1402127676040426,22.76923076923077,0.98840077809364857,-19.217162991094529,-14.676565684725286,1,null,null,null,null,null,null,null,null,4.6581309231954773,-13.195047109166985,-7.9466045843866517,1,null,null,4.6581309231954773,-13.195047109166985,-7.9466045843866517,94,4.6581309231954773,-13.195047109166985,-1000]
[{"$f":"$S$12+94","v":94},null,{"$f":"C80","v":-2.9077600737487921},7.6671331900204009,23.692307692307693,null,-2.9077600737487921,7.6671331900204009,23.692307692307693,-2.9077600737487921,-19.322388719685229,-15.708458527362758,1,null,null,null,null,null,null,null,null,8.1999999999999993,-13.056506661344875,-20.137716697834858,0,null,null,8.1999999999999993,-13.056506661344875,-1000,95,8.1999999999999993,-13.056506661344875,-20.137716697834858]
[{"$f":"$S$12+95","v":95},null,{"$f":"C81","v":-6.1377881350030297},5.4376057975745198,24.615384615384617,null,-6.1377881350030297,5.4376057975745198,24.615384615384617,-6.1377881350030297,-17.953829094516479,-17.695896061460786,1,null,null,null,null,null,null,null,null,4.6581309231954755,-12.917966213522762,-32.328828811283067,0,null,null,4.6581309231954755,-12.917966213522762,-1000,96,4.6581309231954755,-12.917966213522762,-32.328828811283067]
[{"$f":"$S$12+96","v":96},null,{"$f":"C82","v":-7.9617229028936256},1.9623884471579729,25.53846153846154,null,-7.9617229028936256,1.9623884471579729,25.53846153846154,-7.9617229028936256,-15.540046491558096,-20.361015230317751,1,null,null,null,null,null,null,null,null,-2.9077600737487921,-12.794135389012791,-5.6396001784453276,0,null,null,-2.9077600737487921,-12.794135389012791,-1000,97,-2.9077600737487921,-12.794135389012791,-5.6396001784453276]
[{"$f":"$S$12+97","v":97},null,{"$f":"C83","v":-7.9617229028936265},-1.9623884471579709,26.46153846153846,null,-7.9617229028936265,-1.9623884471579709,26.46153846153846,-7.9617229028936265,-12.749051274689135,-23.270704281657778,1,null,null,null,null,null,null,null,null,-7.9617229028936265,-12.749051274689135,-23.270704281657778,1,null,null,-7.9617229028936265,-12.749051274689135,-23.270704281657778,98,-7.9617229028936265,-12.749051274689135,-1000]
[{"$f":"$S$12+98","v":98},null,{"$f":"C84","v":-6.137788135003027},-5.4376057975745207,27.384615384615387,null,-6.137788135003027,-5.4376057975745207,27.384615384615387,-6.137788135003027,-10.335268671730752,-25.935823450514746,1,null,null,null,null,null,null,null,null,0.98840077809364857,-12.688909660422091,-4.6077073358078602,0,null,null,0.98840077809364857,-12.688909660422091,-1000,99,0.98840077809364857,-12.688909660422091,-4.6077073358078602]
[{"$f":"$S$12+97","v":97},null,{"$f":"C85","v":-2.9077600737487943},-7.6671331900204001,28.307692307692307,null,-2.9077600737487943,-7.6671331900204001,28.307692307692307,-2.9077600737487943,-8.9667090465620021,-27.923260984612771,1,null,null,null,null,null,null,null,null,-6.137788135003027,-12.511353115288234,-29.292109566820557,0,null,null,-6.137788135003027,-12.511353115288234,-1000,100,-6.137788135003027,-12.511353115288234,-29.292109566820557]
[{"$f":"$S$12+98","v":98},null,{"$f":"C86","v":0.98840077809365012},-8.1402127676040426,29.230769230769234,null,0.98840077809365012,-8.1402127676040426,29.230769230769234,0.98840077809365012,-9.0719347751527017,-28.955153827250243,1,null,null,null,null,null,null,null,null,7.2607394103563205,-12.403986164383564,-12.126554456772062,0,null,null,7.2607394103563205,-12.403986164383564,-1000,101,7.2607394103563205,-12.403986164383564,-12.126554456772062]
[{"$f":"$S$12+97","v":97},null,{"$f":"C87","v":4.6581309231954755},-6.7484677003279829,30.153846153846153,null,4.6581309231954755,-6.7484677003279829,30.153846153846153,4.6581309231954755,-10.741881769965284,-28.972542694977257,1,null,null,null,null,null,null,null,null,7.2607394103563214,-11.532942714748707,-24.792592822591843,0,null,null,7.2607394103563214,-11.532942714748707,-1000,102,7.2607394103563214,-11.532942714748707,-24.792592822591843]
[{"$f":"$S$12+98","v":98},null,{"$f":"C88","v":7.2607394103563214},-3.8107300107589004,31.076923076923077,null,7.2607394103563214,-3.8107300107589004,31.076923076923077,7.2607394103563214,-13.709027158306187,-28.148878938897653,1,null,null,null,null,null,null,null,null,-6.1377881350030297,-11.425575763844039,-7.6270377125433573,0,null,null,-6.1377881350030297,-11.425575763844039,-1000,103,-6.1377881350030297,-11.425575763844039,-7.6270377125433573]
[{"$f":"$S$12+97","v":97},null,{"$f":"C89","v":""},"","",null,"","","",0,-50,-1000,1,null,null,null,null,null,null,null,null,0.98840077809365012,-11.248019218710184,-32.311439943556053,0,null,null,0.98840077809365012,-11.248019218710184,-1000,104,0.98840077809365012,-11.248019218710184,-32.311439943556053]
[{"$f":"$S$12+98","v":98},null,{"$f":"C90","v":""},"","",null,"","","",0,-50,-1000,1,null,null,null,null,null,null,null,null,-7.9617229028936256,-11.187877604443138,-13.64844299770613,1,null,null,-7.9617229028936256,-11.187877604443138,-13.64844299770613,105,-7.9617229028936256,-11.187877604443138,-1000]
[{"$f":"$S$12+97","v":97},null,{"$f":"C91","v":""},"","",null,"","","",0,-50,-1000,1,null,null,null,null,null,null,null,null,-2.9077600737487943,-11.14279349011948,-31.279547100918581,0,null,null,-2.9077600737487943,-11.14279349011948,-1000,106,-2.9077600737487943,-11.14279349011948,-31.279547100918581]
[{"$f":"$S$12+98","v":98},null,{"$f":"C92","v":""},"","",null,"","","",0,-50,-1000,1,null,null,null,null,null,null,null,null,4.6581309231954773,-11.018962665609507,-4.5903184680808433,0,null,null,4.6581309231954773,-11.018962665609507,-1000,107,4.6581309231954773,-11.018962665609507,-4.5903184680808433]
[97,null,null,null,null,null,{"$f":"IF(C111<>\"\",C111*COS($B$13)-E111*SIN($B$13),\"\")","v":""},{"$f":"IF(C111<>\"\",D111,\"\")","v":""},{"$f":"IF(C111<>\"\",C111*SIN($B$13)+E111*COS($B$13),\"\")","v":""},{"$f":"IF(C111<>\"\",G111,0)","v":0},{"$f":"IF(C111<>\"\",H111*COS($B$16)-I111*SIN($B$16),$N$4)","v":-50},{"$f":"IF(C111<>\"\",H111*SIN($B$16)+I111*COS($B$16),-1000)","v":-1000},1,null,null,null,null,null,null,null,null,8.1999999999999993,-10.880422217787395,-16.781430581529047,1,null,null,8.1999999999999993,-10.880422217787395,-16.781430581529047,108,8.1999999999999993,-10.880422217787395,-1000]
[98,null,{"$f":"C94","v":8.1999999999999993},{"$f":"D94","v":0},{"$f":"IF(D112<>\"\",E94+$B$10,\"\")","v":24},null,8.1999999999999993,0,24,8.1999999999999993,-13.056506661344875,-20.137716697834858,0,null,null,null,null,null,null,null,null,4.6581309231954755,-10.741881769965284,-28.972542694977257,1,null,null,4.6581309231954755,-10.741881769965284,-28.972542694977257,109,4.6581309231954755,-10.741881769965284,-1000]
[97,null,{"$f":"C95","v":7.2607394103563205},3.8107300107589017,{"$f":"IF(D113<>\"\",E95+$B$10,\"\")","v":24.923076923076923},null,7.2607394103563205,3.8107300107589017,24.923076923076923,7.2607394103563205,-16.756155051498521,-18.839126689383679,0,null,null,null,null,null,null,null,null,-2.9077600737487921,-10.618050945455312,-2.2833140621395165,1,null,null,-2.9077600737487921,-10.618050945455312,-2.2833140621395165,110,-2.9077600737487921,-10.618050945455312,-1000]
[98,null,{"$f":"C96","v":4.6581309231954773},6.748467700327982,25.846153846153847,null,4.6581309231954773,6.748467700327982,25.846153846153847,4.6581309231954773,-19.723300439839424,-18.015462933304079,0,null,null,null,null,null,null,null,null,-7.9617229028936265,-10.572966831131655,-19.914418165351968,0,null,null,-7.9617229028936265,-10.572966831131655,-1000,111,-7.9617229028936265,-10.572966831131655,-19.914418165351968]
[97,null,{"$f":"C97","v":0.98840077809364857},8.1402127676040426,26.76923076923077,null,0.98840077809364857,8.1402127676040426,26.76923076923077,0.98840077809364857,-21.393247434652007,-18.032851801031097,0,null,null,null,null,null,null,null,null,0.98840077809364857,-10.512825216864611,-1.2514212195020491,1,null,null,0.98840077809364857,-10.512825216864611,-1.2514212195020491,112,0.98840077809364857,-10.512825216864611,-1000]
[98,null,{"$f":"C98","v":-2.9077600737487921},7.6671331900204009,27.692307692307693,null,-2.9077600737487921,7.6671331900204009,27.692307692307693,-2.9077600737487921,-21.498473163242707,-19.064744643668565,0,null,null,null,null,null,null,null,null,-6.137788135003027,-10.335268671730752,-25.935823450514746,1,null,null,-6.137788135003027,-10.335268671730752,-25.935823450514746,113,-6.137788135003027,-10.335268671730752,-1000]
[97,null,{"$f":"C99","v":-6.1377881350030297},5.4376057975745198,28.615384615384617,null,-6.1377881350030297,5.4376057975745198,28.615384615384617,-6.1377881350030297,-20.129913538073957,-21.052182177766593,0,null,null,null,null,null,null,null,null,7.2607394103563205,-10.227901720826084,-8.7702683404662523,1,null,null,7.2607394103563205,-10.227901720826084,-8.7702683404662523,114,7.2607394103563205,-10.227901720826084,-1000]
[98,null,{"$f":"C100","v":-7.9617229028936256},1.9623884471579729,29.53846153846154,null,-7.9617229028936256,1.9623884471579729,29.53846153846154,-7.9617229028936256,-17.716130935115576,-23.717301346623557,0,null,null,null,null,null,null,null,null,7.2607394103563214,-9.3568582711912285,-21.436306706286032,1,null,null,7.2607394103563214,-9.3568582711912285,-21.436306706286032,115,7.2607394103563214,-9.3568582711912285,-1000]
[97,null,{"$f":"C101","v":-7.9617229028936265},-1.9623884471579709,30.46153846153846,null,-7.9617229028936265,-1.9623884471579709,30.46153846153846,-7.9617229028936265,-14.925135718246613,-26.626990397963588,0,null,null,null,null,null,null,null,null,-6.1377881350030297,-9.249491320286559,-4.2707515962375471,1,null,null,-6.1377881350030297,-9.249491320286559,-4.2707515962375471,116,-6.1377881350030297,-9.249491320286559,-1000]
[98,null,{"$f":"C102","v":-6.137788135003027},-5.4376057975745207,31.384615384615387,null,-6.137788135003027,-5.4376057975745207,31.384615384615387,-6.137788135003027,-12.511353115288234,-29.292109566820557,0,null,null,null,null,null,null,null,null,0.98840077809365012,-9.0719347751527017,-28.955153827250243,1,null,null,0.98840077809365012,-9.0719347751527017,-28.955153827250243,117,0.98840077809365012,-9.0719347751527017,-1000]
[97,null,{"$f":"C103","v":-2.9077600737487943},-7.6671331900204001,32.307692307692307,null,-2.9077600737487943,-7.6671331900204001,32.307692307692307,-2.9077600737487943,-11.14279349011948,-31.279547100918581,0,null,null,null,null,null,null,null,null,-7.9617229028936256,-9.0117931608856576,-10.292156881400318,0,null,null,-7.9617229028936256,-9.0117931608856576,-1000,118,-7.9617229028936256,-9.0117931608856576,-10.292156881400318]
[98,null,{"$f":"C104","v":0.98840077809365012},-8.1402127676040426,33.230769230769234,null,0.98840077809365012,-8.1402127676040426,33.230769230769234,0.98840077809365012,-11.248019218710184,-32.311439943556053,0,null,null,null,null,null,null,null,null,-2.9077600737487943,-8.9667090465620021,-27.923260984612771,1,null,null,-2.9077600737487943,-8.9667090465620021,-27.923260984612771,119,-2.9077600737487943,-8.9667090465620021,-1000]
[97,null,{"$f":"C105","v":4.6581309231954755},-6.7484677003279829,34.153846153846153,null,4.6581309231954755,-6.7484677003279829,34.153846153846153,4.6581309231954755,-12.917966213522762,-32.328828811283067,0,null,null,null,null,null,null,null,null,4.6581309231954773,-8.842878222052029,-1.2340323517750327,1,null,null,4.6581309231954773,-8.842878222052029,-1.2340323517750327,120,4.6581309231954773,-8.842878222052029,-1000]
[98,null,{"$f":"C106","v":7.2607394103563214},-3.8107300107589004,35.07692307692308,null,7.2607394103563214,-3.8107300107589004,35.07692307692308,7.2607394103563214,-15.885111601863668,-31.505165055203467,0,null,null,null,null,null,null,null,null,8.1999999999999993,-8.7043377742299164,-13.425144465223239,0,null,null,8.1999999999999993,-8.7043377742299164,-1000,121,8.1999999999999993,-8.7043377742299164,-13.425144465223239]
[97,null,{"$f":"C107","v":""},"","",null,"","","",0,-50,-1000,0,null,null,null,null,null,null,null,null,4.6581309231954755,-8.5657973264078038,-25.616256578671447,0,null,null,4.6581309231954755,-8.5657973264078038,-1000,122,4.6581309231954755,-8.5657973264078038,-25.616256578671447]
[98,null,{"$f":"C108","v":""},"","",null,"","","",0,-50,-1000,0,null,null,null,null,null,null,null,null,-2.9077600737487921,-8.4419665018978325,1.0729720541662933,0,null,null,-2.9077600737487921,-8.4419665018978325,-1000,123,-2.9077600737487921,-8.4419665018978325,1.0729720541662933]
[97,null,{"$f":"C109","v":""},"","",null,"","","",0,-50,-1000,0,null,null,null,null,null,null,null,null,-7.9617229028936265,-8.3968823875741769,-16.558132049046158,1,null,null,-7.9617229028936265,-8.3968823875741769,-16.558132049046158,124,-7.9617229028936265,-8.3968823875741769,-1000]
[98,null,{"$f":"C110","v":""},"","",null,"","","",0,-50,-1000,0,null,null,null,null,null,null,null,null,0.98840077809364857,-8.336740773307131,2.1048648968037607,0,null,null,0.98840077809364857,-8.336740773307131,-1000,125,0.98840077809364857,-8.336740773307131,2.1048648968037607]
[97,null,null,null,null,null,"","","",0,-50,-1000,0,null,null,null,null,null,null,null,null,-6.137788135003027,-8.1591842281732738,-22.579537334208936,0,null,null,-6.137788135003027,-8.1591842281732738,-1000,126,-6.137788135003027,-8.1591842281732738,-22.579537334208936]
[98,null,{"$f":"C112","v":8.1999999999999993},{"$f":"D112","v":0},{"$f":"IF(D130<>\"\",E112+$B$10,\"\")","v":28},null,8.1999999999999993,0,28,8.1999999999999993,-15.232591104902355,-23.494002814140668,1,null,null,null,null,null,null,null,null,7.2607394103563205,-8.0518172772686043,-5.4139822241604421,0,null,null,7.2607394103563205,-8.0518172772686043,-1000,127,7.2607394103563205,-8.0518172772686043,-5.4139822241604421]
[97,null,{"$f":"C113","v":7.2607394103563205},3.8107300107589017,{"$f":"IF(D131<>\"\",E113+$B$10,\"\")","v":28.923076923076923},null,7.2607394103563205,3.8107300107589017,28.923076923076923,7.2607394103563205,-18.932239495056002,-22.195412805689489,1,null,null,null,null,null,null,null,null,7.2607394103563214,-7.1807738276337485,-18.080020589980222,0,null,null,7.2607394103563214,-7.1807738276337485,-1000,128,7.2607394103563214,-7.1807738276337485,-18.080020589980222]
[98,null,{"$f":"C114","v":4.6581309231954773},6.748467700327982,29.846153846153847,null,4.6581309231954773,6.748467700327982,29.846153846153847,4.6581309231954773,-21.899384883396905,-21.371749049609889,1,null,null,null,null,null,null,null,null,-6.1377881350030297,-7.0734068767290808,-0.91446547993173644,0,null,null,-6.1377881350030297,-7.0734068767290808,-1000,129,-6.1377881350030297,-7.0734068767290808,-0.91446547993173644]
[97,null,{"$f":"C115","v":0.98840077809364857},8.1402127676040426,30.76923076923077,null,0.98840077809364857,8.1402127676040426,30.76923076923077,0.98840077809364857,-23.569331878209486,-21.389137917336907,1,null,null,null,null,null,null,null,null,0.98840077809365012,-6.8958503315952226,-25.598867710944432,0,null,null,{"$f":"V133","v":0.98840077809365012},{"$f":"W133","v":-6.8958503315952226},{"$f":"IF(Y133=0,-1000,X133)","v":-1000},130,{"$f":"V133","v":0.98840077809365012},{"$f":"W133","v":-6.8958503315952226},{"$f":"IF(Y133=1,-1000,X133)","v":-25.598867710944432}]
[98,null,{"$f":"C116","v":-2.9077600737487921},7.6671331900204009,31.692307692307693,null,-2.9077600737487921,7.6671331900204009,31.692307692307693,-2.9077600737487921,-23.674557606800185,-22.421030759974375,1,null,null,null,null,null,null,null,null,-7.9617229028936256,-6.8357087173281776,-6.9358707650945073,1,null,null,-7.9617229028936256,-6.8357087173281776,-6.9358707650945073,131,-7.9617229028936256,-6.8357087173281776,-1000]
[97,null,{"$f":"C117","v":-6.1377881350030297},5.4376057975745198,32.615384615384613,null,-6.1377881350030297,5.4376057975745198,32.615384615384613,-6.1377881350030297,-22.305997981631432,-24.408468294072399,1,null,null,null,null,null,null,null,null,-2.9077600737487943,-6.7906246030045212,-24.566974868306961,0,null,null,-2.9077600737487943,-6.7906246030045212,-1000,132,-2.9077600737487943,-6.7906246030045212,-24.566974868306961]
[98,null,{"$f":"C118","v":-7.9617229028936256},1.9623884471579729,33.53846153846154,null,-7.9617229028936256,1.9623884471579729,33.53846153846154,-7.9617229028936256,-19.892215378673054,-27.073587462929368,1,null,null,null,null,null,null,null,null,4.6581309231954773,-6.666793778494549,2.122253764530778,0,null,null,4.6581309231954773,-6.666793778494549,-1000,133,4.6581309231954773,-6.666793778494549,2.122253764530778]
[97,null,{"$f":"C119","v":-7.9617229028936265},-1.9623884471579709,34.46153846153846,null,-7.9617229028936265,-1.9623884471579709,34.46153846153846,-7.9617229028936265,-17.10122016180409,-29.983276514269399,1,null,null,null,null,null,null,null,null,8.1999999999999993,-6.5282533306724373,-10.068858348917429,1,null,null,8.1999999999999993,-6.5282533306724373,-10.068858348917429,134,8.1999999999999993,-6.5282533306724373,-1000]
[98,null,{"$f":"C120","v":-6.137788135003027},-5.4376057975745207,35.384615384615387,null,-6.137788135003027,-5.4376057975745207,35.384615384615387,-6.137788135003027,-14.687437558845712,-32.64839568312636,1,null,null,null,null,null,null,null,null,4.6581309231954755,-6.3897128828503256,-22.259970462365636,1,null,null,4.6581309231954755,-6.3897128828503256,-22.259970462365636,135,4.6581309231954755,-6.3897128828503256,-1000]
[97,null,{"$f":"C121","v":-2.9077600737487943},-7.6671331900204001,36.307692307692307,null,-2.9077600737487943,-7.6671331900204001,36.307692307692307,-2.9077600737487943,-13.318877933676958,-34.635833217224388,1,null,null,null,null,null,null,null,null,-7.9617229028936265,-6.2207979440166978,-13.201845932740349,0,null,null,-7.9617229028936265,-6.2207979440166978,-1000,136,-7.9617229028936265,-6.2207979440166978,-13.201845932740349]
[98,null,{"$f":"C122","v":0.98840077809365012},-8.1402127676040426,37.230769230769234,null,0.98840077809365012,-8.1402127676040426,37.230769230769234,0.98840077809365012,-13.424103662267662,-35.667726059861856,1,null,null,null,null,null,null,null,null,-6.137788135003027,-5.9830997846157947,-19.223251217903126,1,null,null,-6.137788135003027,-5.9830997846157947,-19.223251217903126,137,-6.137788135003027,-5.9830997846157947,-1000]
[97,null,{"$f":"C123","v":4.6581309231954755},-6.7484677003279829,38.153846153846153,null,4.6581309231954755,-6.7484677003279829,38.153846153846153,4.6581309231954755,-15.09405065708024,-35.68511492758887,1,null,null,null,null,null,null,null,null,7.2607394103563205,-5.8757328337111261,-2.0576961078546332,1,null,null,7.2607394103563205,-5.8757328337111261,-2.0576961078546332,138,7.2607394103563205,-5.8757328337111261,-1000]
[98,null,{"$f":"C124","v":7.2607394103563214},-3.8107300107589004,39.07692307692308,null,7.2607394103563214,-3.8107300107589004,39.07692307692308,7.2607394103563214,-18.061196045421148,-34.86145117150928,1,null,null,null,null,null,null,null,null,7.2607394103563214,-5.0046893840762703,-14.723734473674416,1,null,null,7.2607394103563214,-5.0046893840762703,-14.723734473674416,139,7.2607394103563214,-5.0046893840762703,-1000]
[97,null,{"$f":"C125","v":""},"","",null,"","","",0,-50,-1000,1,null,null,null,null,null,null,null,null,0.98840077809365012,-4.7197658880377444,-22.242581594638622,1,null,null,0.98840077809365012,-4.7197658880377444,-22.242581594638622,140,0.98840077809365012,-4.7197658880377444,-1000]
[98,null,{"$f":"C126","v":""},"","",null,"","","",0,-50,-1000,1,null,null,null,null,null,null,null,null,-7.9617229028936256,-4.6596242737706994,-3.579584648788698,0,null,null,-7.9617229028936256,-4.6596242737706994,-1000,141,-7.9617229028936256,-4.6596242737706994,-3.579584648788698]
[97,null,{"$f":"C127","v":""},"","",null,"","","",0,-50,-1000,1,null,null,null,null,null,null,null,null,-2.9077600737487943,-4.614540159447043,-21.21068875200115,1,null,null,-2.9077600737487943,-4.614540159447043,-21.21068875200115,142,-2.9077600737487943,-4.614540159447043,-1000]
[98,null,{"$f":"C128","v":""},"","",null,"","","",0,-50,-1000,1,null,null,null,null,null,null,null,null,8.1999999999999993,-4.3521688871149582,-6.7125722326116195,0,null,null,8.1999999999999993,-4.3521688871149582,-1000,143,8.1999999999999993,-4.3521688871149582,-6.7125722326116195]
[97,null,null,null,null,null,"","","",0,-50,-1000,1,null,null,null,null,null,null,null,null,4.6581309231954755,-4.2136284392928456,-18.903684346059826,0,null,null,4.6581309231954755,-4.2136284392928456,-1000,144,4.6581309231954755,-4.2136284392928456,-18.903684346059826]
[98,null,{"$f":"C130","v":8.1999999999999993},{"$f":"D130","v":0},{"$f":"IF(D148<>\"\",E130+$B$10,\"\")","v":32},null,8.1999999999999993,0,32,8.1999999999999993,-17.408675548459833,-26.850288930446478,0,null,null,null,null,null,null,null,null,-7.9617229028936265,-4.0447135004592187,-9.8455598164345393,1,null,null,-7.9617229028936265,-4.0447135004592187,-9.8455598164345393,145,-7.9617229028936265,-4.0447135004592187,-1000]
[97,null,{"$f":"C131","v":7.2607394103563205},3.8107300107589017,{"$f":"IF(D149<>\"\",E131+$B$10,\"\")","v":32.92307692307692},null,7.2607394103563205,3.8107300107589017,32.92307692307692,7.2607394103563205,-21.108323938613477,-25.551698921995296,0,null,null,null,null,null,null,null,null,-6.137788135003027,-3.8070153410583147,-15.866965101597312,0,null,null,-6.137788135003027,-3.8070153410583147,-1000,146,-6.137788135003027,-3.8070153410583147,-15.866965101597312]
[98,null,{"$f":"C132","v":4.6581309231954773},6.748467700327982,33.846153846153847,null,4.6581309231954773,6.748467700327982,33.846153846153847,4.6581309231954773,-24.075469326954384,-24.728035165915699,0,null,null,null,null,null,null,null,null,7.2607394103563205,-3.699648390153647,1.298590008451177,0,null,null,7.2607394103563205,-3.699648390153647,-1000,147,7.2607394103563205,-3.699648390153647,1.298590008451177]
[97,null,{"$f":"C133","v":0.98840077809364857},8.1402127676040426,34.769230769230774,null,0.98840077809364857,8.1402127676040426,34.769230769230774,0.98840077809364857,-25.745416321766967,-24.74542403364272,{"$f":"ABS(M133-1)","v":0},null,null,null,null,null,null,null,null,7.2607394103563214,-2.8286049405187916,-11.367448357368605,0,null,null,7.2607394103563214,-2.8286049405187916,-1000,148,7.2607394103563214,-2.8286049405187916,-11.367448357368605]
[98,null,{"$f":"C134","v":-2.9077600737487921},7.6671331900204009,35.692307692307693,null,-2.9077600737487921,7.6671331900204009,35.692307692307693,-2.9077600737487921,-25.850642050357663,-25.777316876280185,0,null,null,null,null,null,null,null,null,0.98840077809365012,-2.5436814444802645,-18.886295478332812,0,null,null,0.98840077809365012,-2.5436814444802645,-1000,149,0.98840077809365012,-2.5436814444802645,-18.886295478332812]
[97,null,{"$f":"C135","v":-6.1377881350030297},5.4376057975745198,36.615384615384613,null,-6.1377881350030297,5.4376057975745198,36.615384615384613,-6.1377881350030297,-24.482082425188914,-27.76475441037821,0,null,null,null,null,null,null,null,null,-2.9077600737487943,-2.438455715889563,-17.85440263569534,0,null,null,-2.9077600737487943,-2.438455715889563,-1000,150,-2.9077600737487943,-2.438455715889563,-17.85440263569534]
[98,null,{"$f":"C136","v":-7.9617229028936256},1.9623884471579729,37.53846153846154,null,-7.9617229028936256,1.9623884471579729,37.53846153846154,-7.9617229028936256,-22.068299822230532,-30.429873579235178,0,null,null,null,null,null,null,null,null,8.1999999999999993,-2.1760844435574791,-3.3562861163058098,1,null,null,8.1999999999999993,-2.1760844435574791,-3.3562861163058098,151,8.1999999999999993,-2.1760844435574791,-1000]
[97,null,{"$f":"C137","v":-7.9617229028936265},-1.9623884471579709,38.46153846153846,null,-7.9617229028936265,-1.9623884471579709,38.46153846153846,-7.9617229028936265,-19.277304605361572,-33.339562630575202,0,null,null,null,null,null,null,null,null,4.6581309231954755,-2.0375439957353683,-15.54739822975402,1,null,null,4.6581309231954755,-2.0375439957353683,-15.54739822975402,152,4.6581309231954755,-2.0375439957353683,-1000]
[98,null,{"$f":"C138","v":-6.137788135003027},-5.4376057975745207,39.384615384615387,null,-6.137788135003027,-5.4376057975745207,39.384615384615387,-6.137788135003027,-16.86352200240319,-36.004681799432177,0,null,null,null,null,null,null,null,null,-7.9617229028936265,-1.8686290569017394,-6.4892737001287291,0,null,null,-7.9617229028936265,-1.8686290569017394,-1000,153,-7.9617229028936265,-1.8686290569017394,-6.4892737001287291]
[97,null,{"$f":"C139","v":-2.9077600737487943},-7.6671331900204001,40.307692307692307,null,-2.9077600737487943,-7.6671331900204001,40.307692307692307,-2.9077600737487943,-15.49496237723444,-37.992119333530198,0,null,null,null,null,null,null,null,null,-6.137788135003027,-1.6309308975008356,-12.510678985291502,1,null,null,-6.137788135003027,-1.6309308975008356,-12.510678985291502,154,-6.137788135003027,-1.6309308975008356,-1000]
[98,null,{"$f":"C140","v":0.98840077809365012},-8.1402127676040426,41.230769230769234,null,0.98840077809365012,-8.1402127676040426,41.230769230769234,0.98840077809365012,-15.60018810582514,-39.024012176167673,0,null,null,null,null,null,null,null,null,0.98840077809365012,-0.36759700092278536,-15.530009362027002,1,null,null,0.98840077809365012,-0.36759700092278536,-15.530009362027002,155,0.98840077809365012,-0.36759700092278536,-1000]
[97,null,{"$f":"C141","v":4.6581309231954755},-6.7484677003279829,42.153846153846153,null,4.6581309231954755,-6.7484677003279829,42.153846153846153,4.6581309231954755,-17.270135100637724,-39.04140104389468,0,null,null,null,null,null,null,null,null,-2.9077600737487943,-0.26237127233208568,-14.498116519389534,1,null,null,-2.9077600737487943,-0.26237127233208568,-14.498116519389534,156,-2.9077600737487943,-0.26237127233208568,-1000]
[98,null,{"$f":"C142","v":7.2607394103563214},-3.8107300107589004,43.07692307692308,null,7.2607394103563214,-3.8107300107589004,43.07692307692308,7.2607394103563214,-20.237280488978627,-38.21773728781509,0,null,null,null,null,null,null,null,null,8.1999999999999993,0,0,0,null,null,8.1999999999999993,0,-1000,157,8.1999999999999993,0,0]
[97,null,{"$f":"C143","v":""},"","",null,"","","",0,-50,-1000,0,null,null,null,null,null,null,null,null,4.6581309231954755,0.13854044782211083,-12.191112113448209,0,null,null,4.6581309231954755,0.13854044782211083,-1000,158,4.6581309231954755,0.13854044782211083,-12.191112113448209]
[98,null,{"$f":"C144","v":""},"","",null,"","","",0,-50,-1000,0,null,null,null,null,null,null,null,null,-6.137788135003027,0.54515354605664346,-9.1543928689856937,0,null,null,-6.137788135003027,0.54515354605664346,-1000,159,-6.137788135003027,0.54515354605664346,-9.1543928689856937]
[97,null,{"$f":"C145","v":""},"","",null,"","","",0,-50,-1000,0,null,null,null,null,null,null,null,null,0.98840077809365012,1.8084874426346937,-12.173723245721192,0,null,null,0.98840077809365012,1.8084874426346937,-1000,160,0.98840077809365012,1.8084874426346937,-12.173723245721192]
[98,null,{"$f":"C146","v":""},"","",null,"","","",0,-50,-1000,0,null,null,null,null,null,null,null,null,-2.9077600737487943,1.9137131712253934,-11.141830403083723,0,null,null,-2.9077600737487943,1.9137131712253934,-1000,161,-2.9077600737487943,1.9137131712253934,-11.141830403083723]

{"sheet":"Fig","index":2,"n_rows":0,"n_cols":0,"rows_kept":0,"cut":false,"hidden":false,"merged":[]}