{"text_format":"1","workbook":"xlsx","n_sheets":2,"sheets":["Fig","Data"],"not_rendered":{"charts":4,"images":0,"macros":1,"external_links":0,"defined_names":0,"comments":0,"pivot_tables":0},"unopened":[],"bounds":{"document_bytes":16777216,"sheet_cells":100000,"rows_first":2000,"rows_last":500,"rows_between":2000,"halvings":0,"cell_chars":16384,"cell_head_chars":4096},"cells_cut":0,"cells_raw":0,"read":"whole","date_system":"1900"}

{"sheet":"Fig","index":0,"n_rows":17,"n_cols":11,"rows_kept":17,"cut":false,"hidden":false,"merged":[[16,9,19,10]]}
[]
[]
[null,null,null,null,null,null,null,null,null,"Parameters"]
[]
[null,null,null,null,null,null,null,null,null,"Radius of MT",10]
[]
[null,null,null,null,null,null,null,null,null,"Protofilament number",13]
[]
[null,null,null,null,null,null,null,null,null,"Tub axial pitch",4.0999999999999996]
[]
[null,null,null,null,null,null,null,null,null,"Rotation angle (rad)",{"$f":"PI()/10*19","v":5.9690260418206069}]
[]
[null,null,null,null,null,null,null,null,null,"Tilting angle (rad)",1]
[]
[null,null,null,null,null,null,null,null,null,"Helix start number",3]
[]
[null,null,null,null,null,null,null,null,null,"Run the macro DrawMT\nor Shift_Ctrl+D"]

{"sheet":"Data","index":1,"n_rows":322,"n_cols":24,"rows_kept":322,"cut":false,"hidden":false,"merged":[]}
[1,2,3,4,5,6,7,8,null,null,11,12,13,14,15,16,17,18,19,null,null,7,8,11]
[null,null,"Absolute coordinates",null,null,null,"Y-Tilting",null,null,null,null,null,null,null,null,null,null,null,null,null,null,"Y-Tilting"]
["zz","r","x","y","z",null,"X","Y",null,null,"Z",null,null,null,null,null,null,null,"Time",null,null,"X","Y","Z"]
[{"$f":"$S$10+0","v":0},{"$f":"Fig!K5","v":10},{"$f":"IF(A4<$B$7,$B$4*COS($B$13+A4/$B$7*2*PI()),\"\")","v":9.5105651629515346},{"$f":"IF(A4<$B$7,$B$4*SIN($B$13+A4/$B$7*2*PI()),\"\")","v":-3.0901699437494763},{"$f":"IF(A4<$B$7,$B$10*$B$19/$B$7*A4,\"\")","v":0},null,{"$f":"IF(C4<>\"\",C4,\"\")","v":9.5105651629515346},{"$f":"IF(D4<>\"\",E4*SIN($B$16)+D4*COS($B$16),\"\")","v":-1.6696259461322618},null,null,{"$f":"IF(E4<>\"\",E4*COS($B$16)-D4*SIN($B$16),\"\")","v":2.6002883457906338},null,null,null,null,null,null,null,0,null,0,9.5105651629515346,-1.6696259461322618,2.6002883457906338]
[{"$f":"$S$10+1","v":1},11,{"$f":"IF(A5<$B$7,$B$4*COS($B$13+A5/$B$7*2*PI()),\"\")","v":9.8572608093165108},{"$f":"IF(A5<$B$7,$B$4*SIN($B$13+A5/$B$7*2*PI()),\"\")","v":1.6835704134703791},{"$f":"IF(A5<$B$7,$B$10*$B$19/$B$7*A5,\"\")","v":0.94615384615384612},null,{"$f":"IF(C5<>\"\",C5,\"\")","v":9.8572608093165108},{"$f":"IF(D5<>\"\",E5*SIN($B$16)+D5*COS($B$16),\"\")","v":1.7057979851922793},null,null,{"$f":"IF(E5<>\"\",E5*COS($B$16)-D5*SIN($B$16),\"\")","v":-0.90546654903342516},null,null,null,null,null,null,null,"dRotation",null,1,9.8572608093165108,1.7057979851922793,-0.90546654903342516]
[{"$f":"$S$10+2","v":2},"pfn",7.9457767971375439,6.0716250781871111,1.8923076923076922,null,7.9457767971375439,4.8728350475170323,null,null,-4.0866781243605654,null,null,null,null,null,null,null,{"$f":"Fig!K11","v":5.9690260418206069},null,2,9.5105651629515346,1.7804050915801137,4.8155277998500061]
[{"$f":"$S$10+3","v":3},{"$f":"Fig!K7","v":13},4.2140110777252886,9.0687436085054554,2.8384615384615381,null,4.2140110777252886,7.2883461091110195,null,null,-6.0974573008706061,null,null,null,null,null,null,null,"dTilting",null,null,-1.9212671735370759,2.659244666396237,13.370035912865141]
[{"$f":"$S$10+4","v":4},13,-0.483133795255069,9.988322268323266,3.7846153846153845,null,-0.483133795255069,8.5813575881405733,null,null,-6.3600469565728925,null,null,null,null,null,null,null,{"$f":"Fig!K13","v":1},null,null,-6.2618519753831414,2.95285056505959,11.161615408476791]
[{"$f":"$S$10+5","v":5},"Tub p",-5.0695985381358986,8.6196966688004952,4.7307692307692308,null,-5.0695985381358986,8.6380470295511103,null,null,-4.6971791207262363,null,null,null,null,null,null,null,"Z-offset",null,null,2.8594567839868787,3.5803467851693149,13.686660767697752]
[{"$f":"$S$10+6","v":6},{"$f":"Fig!K9","v":4.0999999999999996},-8.4946793512152059,5.2764024410613359,5.6769230769230763,null,-8.4946793512152059,7.6278184578108572,null,null,-1.3726849296250783,null,null,null,null,null,null,null,0,null,null,-9.1679219531658234,4.2115120157966999,7.4502099325676703]
[{"$f":"$S$10+7","v":7},4,-9.9737314969149118,0.72434800161762047,6.6230769230769226,null,-9.9737314969149118,5.9644939564449704,null,null,2.9689459072157147,null,null,null,null,null,null,null,"n",null,null,7.9457767971375439,4.8728350475170323,-4.0866781243605654]
[{"$f":"$S$10+8","v":8},"Rotation",-9.1679219531658234,-3.9936458356569551,7.569230769230769,null,-9.1679219531658234,4.2115120157966999,null,null,7.4502099325676703,null,null,null,null,null,null,null,18,null,null,9.8572608093165108,5.1558290229046548,1.3097729050259479]
[{"$f":"$S$10+9","v":9},{"$f":"Fig!K11","v":5.9690260418206069},-6.2618519753831414,-7.796743540632221,8.5153846153846153,null,-6.2618519753831414,2.95285056505959,null,null,11.161615408476791,null,null,null,null,null,null,null,null,null,null,9.5105651629515346,5.2304361292924888,7.0307672539093797]
[{"$f":"$S$10+10","v":10},1.5,-1.9212671735370759,-9.8137012613941348,9.4615384615384617,null,-1.9212671735370759,2.659244666396237,null,null,13.370035912865141,null,null,null,null,null,null,null,null,null,null,6.9851136524893693,5.68753441876534,12.156066879643815]
[{"$f":"$S$10+11","v":11},"Tilting Y",2.8594567839868787,-9.5824582910916654,10.407692307692308,null,2.8594567839868787,3.5803467851693149,null,null,13.686660767697752,null,null,null,null,null,null,null,null,null,null,-9.9737314969149118,5.9644939564449704,2.9689459072157147]
[{"$f":"$S$10+12","v":12},{"$f":"Fig!K13","v":1},6.9851136524893693,-7.155989607441211,11.353846153846153,null,6.9851136524893693,5.68753441876534,null,null,12.156066879643815,null,null,null,null,null,null,null,null,null,null,-1.9212671735370759,6.1092757041086125,15.585275366924513]
[{"$f":"$S$10+13","v":13},0,"","","",null,"","",null,null,"",null,null,null,null,null,null,null,null,null,null,-6.2618519753831414,6.4028816027719655,13.376854862536163]
[{"$f":"$S$10+14","v":14},"Helix start","","","",null,"","",null,null,"",null,null,null,null,null,null,null,null,null,null,2.8594567839868787,7.0303778228816896,15.901900221757124]
[{"$f":"$S$10+13","v":13},{"$f":"Fig!K15","v":3},"","","",null,"","",null,null,"",null,null,null,null,null,null,null,null,null,null,4.2140110777252886,7.2883461091110195,-6.0974573008706061]
[{"$f":"$S$10+14","v":14},3,"","","",null,"","",null,null,"",null,null,null,null,null,null,null,null,null,null,-8.4946793512152059,7.6278184578108572,-1.3726849296250783]
[{"$f":"$S$10+13","v":13},null,null,null,null,null,{"$f":"IF(C21<>\"\",C21-E21*SIN($B$13),\"\")","v":""},{"$f":"IF(D21<>\"\",D21-E21*SIN($B$16),\"\")","v":""},null,null,{"$f":"IF(E21<>\"\",E21*COS(J21),\"\")","v":""},null,null,null,null,null,null,null,null,null,null,-9.1679219531658234,7.6615430535090745,9.6654493866270439]
[{"$f":"$S$10+14","v":14},null,{"$f":"C4","v":9.5105651629515346},{"$f":"D4","v":-3.0901699437494763},{"$f":"IF(D22<>\"\",E4+$B$10,\"\")","v":4.0999999999999996},null,{"$f":"IF(C22<>\"\",C22,\"\")","v":9.5105651629515346},{"$f":"IF(D22<>\"\",E22*SIN($B$16)+D22*COS($B$16),\"\")","v":1.7804050915801137},null,null,{"$f":"IF(E22<>\"\",E22*COS($B$16)-D22*SIN($B$16),\"\")","v":4.8155277998500061},null,null,null,null,null,null,null,null,null,null,7.9457767971375439,8.322866085229407,-1.8714386703011923]
[{"$f":"$S$10+13","v":13},null,{"$f":"C5","v":9.8572608093165108},1.6835704134703791,{"$f":"IF(D23<>\"\",E5+$B$10,\"\")","v":5.046153846153846},null,{"$f":"IF(C23<>\"\",C23,\"\")","v":9.8572608093165108},{"$f":"IF(D23<>\"\",E23*SIN($B$16)+D23*COS($B$16),\"\")","v":5.1558290229046548},null,null,{"$f":"IF(E23<>\"\",E23*COS($B$16)-D23*SIN($B$16),\"\")","v":1.3097729050259479},null,null,null,null,null,null,null,null,null,null,-0.483133795255069,8.5813575881405733,-6.3600469565728925]
[{"$f":"$S$10+14","v":14},null,{"$f":"C6","v":7.9457767971375439},6.0716250781871111,5.9923076923076923,null,7.9457767971375439,8.322866085229407,null,null,-1.8714386703011923,null,null,null,null,null,null,null,null,null,null,9.8572608093165108,8.6058600606170295,3.5250123590853208]
[{"$f":"$S$10+13","v":13},null,{"$f":"C7","v":4.2140110777252886},9.0687436085054554,6.9384615384615378,null,4.2140110777252886,10.738377146823396,null,null,-3.8822178468112334,null,null,null,null,null,null,null,null,null,null,-5.0695985381358986,8.6380470295511103,-4.6971791207262363]
[{"$f":"$S$10+14","v":14},null,{"$f":"C8","v":-0.483133795255069},9.988322268323266,7.8846153846153841,null,-0.483133795255069,12.031388625852948,null,null,-4.1448075025135189,null,null,null,null,null,null,null,null,null,null,9.5105651629515346,8.6804671670048634,9.2460067079687516]
[{"$f":"$S$10+13","v":13},null,{"$f":"C9","v":-5.0695985381358986},8.6196966688004952,8.8307692307692314,null,-5.0695985381358986,12.088078067263487,null,null,-2.4819396666668627,null,null,null,null,null,null,null,null,null,null,6.9851136524893693,9.1375654564777147,14.371306333703188]
[{"$f":"$S$10+14","v":14},null,{"$f":"C10","v":-8.4946793512152059},5.2764024410613359,9.7769230769230759,null,-8.4946793512152059,11.077849495523232,null,null,0.84255452443429402,null,null,null,null,null,null,null,null,null,null,-9.9737314969149118,9.4145249941573468,5.1841853612750874]
[{"$f":"$S$10+13","v":13},null,{"$f":"C11","v":-9.9737314969149118},0.72434800161762047,10.723076923076922,null,-9.9737314969149118,9.4145249941573468,null,null,5.1841853612750874,null,null,null,null,null,null,null,null,null,null,-1.9212671735370759,9.5593067418209898,17.800514820983889]
[{"$f":"$S$10+14","v":14},null,{"$f":"C12","v":-9.1679219531658234},-3.9936458356569551,11.669230769230769,null,-9.1679219531658234,7.6615430535090745,null,null,9.6654493866270439,null,null,null,null,null,null,null,null,null,null,-6.2618519753831414,9.852912640484341,15.592094316595537]
[{"$f":"$S$10+13","v":13},null,{"$f":"C13","v":-6.2618519753831414},-7.796743540632221,12.615384615384615,null,-6.2618519753831414,6.4028816027719655,null,null,13.376854862536163,null,null,null,null,null,null,null,null,null,null,2.8594567839868787,10.480408860594066,18.117139675816496]
[{"$f":"$S$10+14","v":14},null,{"$f":"C14","v":-1.9212671735370759},-9.8137012613941348,13.561538461538461,null,-1.9212671735370759,6.1092757041086125,null,null,15.585275366924513,null,null,null,null,null,null,null,null,null,null,4.2140110777252886,10.738377146823396,-3.8822178468112334]
[{"$f":"$S$10+13","v":13},null,{"$f":"C15","v":2.8594567839868787},-9.5824582910916654,14.507692307692308,null,2.8594567839868787,7.0303778228816896,null,null,15.901900221757124,null,null,null,null,null,null,null,null,null,null,-8.4946793512152059,11.077849495523232,0.84255452443429402]
[{"$f":"$S$10+14","v":14},null,{"$f":"C16","v":6.9851136524893693},-7.155989607441211,15.453846153846152,null,6.9851136524893693,9.1375654564777147,null,null,14.371306333703188,null,null,null,null,null,null,null,null,null,null,-9.1679219531658234,11.111574091221451,11.880688840686418]
[{"$f":"$S$10+13","v":13},null,{"$f":"C17","v":""},"","",null,"","",null,null,"",null,null,null,null,null,null,null,null,null,null,7.9457767971375439,11.772897122941783,0.34380078375818091]
[{"$f":"$S$10+14","v":14},null,{"$f":"C18","v":""},"","",null,"","",null,null,"",null,null,null,null,null,null,null,null,null,null,-0.483133795255069,12.031388625852948,-4.1448075025135189]
[{"$f":"$S$10+13","v":13},null,{"$f":"C19","v":""},"","",null,"","",null,null,"",null,null,null,null,null,null,null,null,null,null,9.8572608093165108,12.055891098329406,5.7402518131446936]
[{"$f":"$S$10+14","v":14},null,{"$f":"C20","v":""},"","",null,"","",null,null,"",null,null,null,null,null,null,null,null,null,null,-5.0695985381358986,12.088078067263487,-2.4819396666668627]
[{"$f":"$S$10+13","v":13},null,null,null,null,null,"","",null,null,"",null,null,null,null,null,null,null,null,null,null,9.5105651629515346,12.13049820471724,11.461246162028125]
[{"$f":"$S$10+14","v":14},null,{"$f":"C22","v":9.5105651629515346},{"$f":"D22","v":-3.0901699437494763},{"$f":"IF(D40<>\"\",E22+$B$10,\"\")","v":8.1999999999999993},null,{"$f":"IF(C40<>\"\",C40,\"\")","v":9.5105651629515346},{"$f":"IF(D40<>\"\",E40*SIN($B$16)+D40*COS($B$16),\"\")","v":5.2304361292924888},null,null,{"$f":"IF(E40<>\"\",E40*COS($B$16)-D40*SIN($B$16),\"\")","v":7.0307672539093797},null,null,null,null,null,null,null,null,null,null,6.9851136524893693,12.587596494190089,16.58654578776256]
[{"$f":"$S$10+13","v":13},null,{"$f":"C23","v":9.8572608093165108},1.6835704134703791,{"$f":"IF(D41<>\"\",E23+$B$10,\"\")","v":9.1461538461538456},null,{"$f":"IF(C41<>\"\",C41,\"\")","v":9.8572608093165108},{"$f":"IF(D41<>\"\",E41*SIN($B$16)+D41*COS($B$16),\"\")","v":8.6058600606170295},null,null,{"$f":"IF(E41<>\"\",E41*COS($B$16)-D41*SIN($B$16),\"\")","v":3.5250123590853208},null,null,null,null,null,null,null,null,null,null,-9.9737314969149118,12.864556031869721,7.3994248153344602]
[{"$f":"$S$10+14","v":14},null,{"$f":"C24","v":7.9457767971375439},6.0716250781871111,10.092307692307692,null,7.9457767971375439,11.772897122941783,null,null,0.34380078375818091,null,null,null,null,null,null,null,null,null,null,-1.9212671735370759,13.009337779533364,20.015754275043264]
[{"$f":"$S$10+13","v":13},null,{"$f":"C25","v":4.2140110777252886},9.0687436085054554,11.038461538461537,null,4.2140110777252886,14.188408184535771,null,null,-1.6669783927518615,null,null,null,null,null,null,null,null,null,null,-6.2618519753831414,13.302943678196719,17.80733377065491]
[{"$f":"$S$10+14","v":14},null,{"$f":"C26","v":-0.483133795255069},9.988322268323266,11.984615384615385,null,-0.483133795255069,15.481419663565323,null,null,-1.9295680484541462,null,null,null,null,null,null,null,null,null,null,2.8594567839868787,13.930439898306441,20.332379129875868]
[{"$f":"$S$10+13","v":13},null,{"$f":"C27","v":-5.0695985381358986},8.6196966688004952,12.930769230769231,null,-5.0695985381358986,15.538109104975863,null,null,-0.26670021260748999,null,null,null,null,null,null,null,null,null,null,4.2140110777252886,14.188408184535771,-1.6669783927518615]
[{"$f":"$S$10+14","v":14},null,{"$f":"C28","v":-8.4946793512152059},5.2764024410613359,13.876923076923076,null,-8.4946793512152059,14.527880533235608,null,null,3.0577939784936676,null,null,null,null,null,null,null,null,null,null,-8.4946793512152059,14.527880533235608,3.0577939784936676]
[{"$f":"$S$10+13","v":13},null,{"$f":"C29","v":-9.9737314969149118},0.72434800161762047,14.823076923076922,null,-9.9737314969149118,12.864556031869721,null,null,7.3994248153344602,null,null,null,null,null,null,null,null,null,null,-9.1679219531658234,14.561605128933827,14.095928294745789]
[{"$f":"$S$10+14","v":14},null,{"$f":"C30","v":-9.1679219531658234},-3.9936458356569551,15.769230769230768,null,-9.1679219531658234,11.111574091221451,null,null,11.880688840686418,null,null,null,null,null,null,null,null,null,null,7.9457767971375439,15.222928160654158,2.5590402378175536]
[{"$f":"$S$10+13","v":13},null,{"$f":"C31","v":-6.2618519753831414},-7.796743540632221,16.715384615384615,null,-6.2618519753831414,9.852912640484341,null,null,15.592094316595537,null,null,null,null,null,null,null,null,null,null,-0.483133795255069,15.481419663565323,-1.9295680484541462]
[{"$f":"$S$10+14","v":14},null,{"$f":"C32","v":-1.9212671735370759},-9.8137012613941348,17.661538461538463,null,-1.9212671735370759,9.5593067418209898,null,null,17.800514820983889,null,null,null,null,null,null,null,null,null,null,9.8572608093165108,15.505922136041782,7.9554912672040672]
[{"$f":"$S$10+13","v":13},null,{"$f":"C33","v":2.8594567839868787},-9.5824582910916654,18.607692307692307,null,2.8594567839868787,10.480408860594066,null,null,18.117139675816496,null,null,null,null,null,null,null,null,null,null,-5.0695985381358986,15.538109104975863,-0.26670021260748999]
[{"$f":"$S$10+14","v":14},null,{"$f":"C34","v":6.9851136524893693},-7.155989607441211,19.553846153846152,null,6.9851136524893693,12.587596494190089,null,null,16.58654578776256,null,null,null,null,null,null,null,null,null,null,9.5105651629515346,15.580529242429614,13.676485616087499]
[{"$f":"$S$10+13","v":13},null,{"$f":"C35","v":""},"","",null,"","",null,null,"",null,null,null,null,null,null,null,null,null,null,6.9851136524893693,16.037627531902466,18.801785241821936]
[{"$f":"$S$10+14","v":14},null,{"$f":"C36","v":""},"","",null,"","",null,null,"",null,null,null,null,null,null,null,null,null,null,-9.9737314969149118,16.314587069582096,9.6146642693938311]
[{"$f":"$S$10+13","v":13},null,{"$f":"C37","v":""},"","",null,"","",null,null,"",null,null,null,null,null,null,null,null,null,null,-1.9212671735370759,16.459368817245743,22.230993729102636]
[{"$f":"$S$10+14","v":14},null,{"$f":"C38","v":""},"","",null,"","",null,null,"",null,null,null,null,null,null,null,null,null,null,-6.2618519753831414,16.752974715909097,20.022573224714286]
[{"$f":"$S$10+13","v":13},null,null,null,null,null,"","",null,null,"",null,null,null,null,null,null,null,null,null,null,2.8594567839868787,17.380470936018817,22.547618583935243]
[{"$f":"$S$10+14","v":14},null,{"$f":"C40","v":9.5105651629515346},{"$f":"D40","v":-3.0901699437494763},{"$f":"IF(D58<>\"\",E40+$B$10,\"\")","v":12.299999999999999},null,{"$f":"IF(C58<>\"\",C58,\"\")","v":9.5105651629515346},{"$f":"IF(D58<>\"\",E58*SIN($B$16)+D58*COS($B$16),\"\")","v":8.6804671670048634},null,null,{"$f":"IF(E58<>\"\",E58*COS($B$16)-D58*SIN($B$16),\"\")","v":9.2460067079687516},null,null,null,null,null,null,null,null,null,null,4.2140110777252886,17.638439222248145,0.54826106130751118]
[{"$f":"$S$10+13","v":13},null,{"$f":"C41","v":9.8572608093165108},1.6835704134703791,{"$f":"IF(D59<>\"\",E41+$B$10,\"\")","v":13.246153846153845},null,{"$f":"IF(C59<>\"\",C59,\"\")","v":9.8572608093165108},{"$f":"IF(D59<>\"\",E59*SIN($B$16)+D59*COS($B$16),\"\")","v":12.055891098329406},null,null,{"$f":"IF(E59<>\"\",E59*COS($B$16)-D59*SIN($B$16),\"\")","v":5.7402518131446936},null,null,null,null,null,null,null,null,null,null,-8.4946793512152059,17.977911570947981,5.2730334325530395]
[{"$f":"$S$10+14","v":14},null,{"$f":"C42","v":7.9457767971375439},6.0716250781871111,14.192307692307692,null,7.9457767971375439,15.222928160654158,null,null,2.5590402378175536,null,null,null,null,null,null,null,null,null,null,-9.1679219531658234,18.011636166646202,16.311167748805161]
[{"$f":"$S$10+13","v":13},null,{"$f":"C43","v":4.2140110777252886},9.0687436085054554,15.138461538461536,null,4.2140110777252886,17.638439222248145,null,null,0.54826106130751118,null,null,null,null,null,null,null,null,null,null,7.9457767971375439,18.672959198366534,4.7742796918769264]
[{"$f":"$S$10+14","v":14},null,{"$f":"C44","v":-0.483133795255069},9.988322268323266,16.084615384615383,null,-0.483133795255069,18.931450701277697,null,null,0.28567140560522652,null,null,null,null,null,null,null,null,null,null,-0.483133795255069,18.931450701277697,0.28567140560522652]
[{"$f":"$S$10+13","v":13},null,{"$f":"C45","v":-5.0695985381358986},8.6196966688004952,17.030769230769231,null,-5.0695985381358986,18.988140142688238,null,null,1.9485392414518836,null,null,null,null,null,null,null,null,null,null,9.8572608093165108,18.95595317375416,10.170730721263441]
[{"$f":"$S$10+14","v":14},null,{"$f":"C46","v":-8.4946793512152059},5.2764024410613359,17.976923076923075,null,-8.4946793512152059,17.977911570947981,null,null,5.2730334325530395,null,null,null,null,null,null,null,null,null,null,-5.0695985381358986,18.988140142688238,1.9485392414518836]
[{"$f":"$S$10+13","v":13},null,{"$f":"C47","v":-9.9737314969149118},0.72434800161762047,18.92307692307692,null,-9.9737314969149118,16.314587069582096,null,null,9.6146642693938311,null,null,null,null,null,null,null,null,null,null,6.9851136524893693,19.487658569614844,21.017024695881307]
[{"$f":"$S$10+14","v":14},null,{"$f":"C48","v":-9.1679219531658234},-3.9936458356569551,19.869230769230768,null,-9.1679219531658234,14.561605128933827,null,null,14.095928294745789,null,null,null,null,null,null,null,null,null,null,-9.9737314969149118,19.764618107294471,11.829903723453205]
[{"$f":"$S$10+13","v":13},null,{"$f":"C49","v":-6.2618519753831414},-7.796743540632221,20.815384615384616,null,-6.2618519753831414,13.302943678196719,null,null,17.80733377065491,null,null,null,null,null,null,null,null,null,null,-1.9212671735370759,19.909399854958117,24.446233183162008]
[{"$f":"$S$10+14","v":14},null,{"$f":"C50","v":-1.9212671735370759},-9.8137012613941348,21.761538461538464,null,-1.9212671735370759,13.009337779533364,null,null,20.015754275043264,null,null,null,null,null,null,null,null,null,null,-6.2618519753831414,20.203005753621472,22.237812678773658]
[{"$f":"$S$10+13","v":13},null,{"$f":"C51","v":2.8594567839868787},-9.5824582910916654,22.707692307692305,null,2.8594567839868787,13.930439898306441,null,null,20.332379129875868,null,null,null,null,null,null,null,null,null,null,2.8594567839868787,20.830501973731195,24.762858037994615]
[{"$f":"$S$10+14","v":14},null,{"$f":"C52","v":6.9851136524893693},-7.155989607441211,23.653846153846153,null,6.9851136524893693,16.037627531902466,null,null,18.801785241821936,null,null,null,null,null,null,null,null,null,null,4.2140110777252886,21.08847025996052,2.7635005153668848]
[{"$f":"$S$10+13","v":13},null,{"$f":"C53","v":""},"","",null,"","",null,null,"",null,null,null,null,null,null,null,null,null,null,-8.4946793512152059,21.427942608660356,7.4882728866124113]
[{"$f":"$S$10+14","v":14},null,{"$f":"C54","v":""},"","",null,"","",null,null,"",null,null,null,null,null,null,null,null,null,null,-9.1679219531658234,21.46166720435858,18.526407202864537]
[{"$f":"$S$10+13","v":13},null,{"$f":"C55","v":""},"","",null,"","",null,null,"",null,null,null,null,null,null,null,null,null,null,7.9457767971375439,22.122990236078905,6.9895191459362982]
[{"$f":"$S$10+14","v":14},null,{"$f":"C56","v":""},"","",null,"","",null,null,"",null,null,null,null,null,null,null,null,null,null,-0.483133795255069,22.381481738990075,2.5009108596646001]
[{"$f":"$S$10+13","v":13},null,null,null,null,null,{"$f":"IF(C75<>\"\",C75-E75*SIN($B$13),\"\")","v":""},{"$f":"IF(D75<>\"\",D75-E75*SIN($B$16),\"\")","v":""},null,null,{"$f":"IF(E75<>\"\",E75*COS(J75),\"\")","v":""},null,null,null,null,null,null,null,null,null,null,-5.0695985381358986,22.438171180400612,4.1637786955112572]
[{"$f":"$S$10+14","v":14},null,{"$f":"C58","v":9.5105651629515346},{"$f":"D58","v":-3.0901699437494763},{"$f":"IF(D76<>\"\",E58+$B$10,\"\")","v":16.399999999999999},null,{"$f":"IF(C76<>\"\",C76,\"\")","v":9.5105651629515346},{"$f":"IF(D76<>\"\",E76*SIN($B$16)+D76*COS($B$16),\"\")","v":12.13049820471724},null,null,{"$f":"IF(E76<>\"\",E76*COS($B$16)-D76*SIN($B$16),\"\")","v":11.461246162028125},null,null,null,null,null,null,null,null,null,null,6.9851136524893693,22.937689607327222,23.232264149940683]
[{"$f":"$S$10+13","v":13},null,{"$f":"C59","v":9.8572608093165108},1.6835704134703791,{"$f":"IF(D77<>\"\",E59+$B$10,\"\")","v":17.346153846153847},null,{"$f":"IF(C77<>\"\",C77,\"\")","v":9.8572608093165108},{"$f":"IF(D77<>\"\",E77*SIN($B$16)+D77*COS($B$16),\"\")","v":15.505922136041782},null,null,{"$f":"IF(E77<>\"\",E77*COS($B$16)-D77*SIN($B$16),\"\")","v":7.9554912672040672},null,null,null,null,null,null,null,null,null,null,-9.9737314969149118,23.214649145006849,14.045143177512578]
[{"$f":"$S$10+14","v":14},null,{"$f":"C60","v":7.9457767971375439},6.0716250781871111,18.292307692307691,null,7.9457767971375439,18.672959198366534,null,null,4.7742796918769264,null,null,null,null,null,null,null,null,null,null,4.2140110777252886,24.538501297672894,4.9787399694262584]
[{"$f":"$S$10+13","v":13},null,{"$f":"C61","v":4.2140110777252886},9.0687436085054554,19.238461538461536,null,4.2140110777252886,21.08847025996052,null,null,2.7635005153668848,null,null,null,null,null,null,null,null,null,null,-8.4946793512152059,24.87797364637273,9.7035123406717858]
[{"$f":"$S$10+14","v":14},null,{"$f":"C62","v":-0.483133795255069},9.988322268323266,20.184615384615384,null,-0.483133795255069,22.381481738990075,null,null,2.5009108596646001,null,null,null,null,null,null,null,null,null,null,-0.483133795255069,25.831512776702453,4.7161503137239738]
[{"$f":"$S$10+13","v":13},null,{"$f":"C63","v":-5.0695985381358986},8.6196966688004952,21.130769230769232,null,-5.0695985381358986,22.438171180400612,null,null,4.1637786955112572,null,null,null,null,null,null,null,null,null,null,-5.0695985381358986,25.88820221811299,6.3790181495706308]
[{"$f":"$S$10+14","v":14},null,{"$f":"C64","v":-8.4946793512152059},5.2764024410613359,22.076923076923073,null,-8.4946793512152059,21.427942608660356,null,null,7.4882728866124113,null,null,null,null,null,null,null,null,null,null,"","",""]
[{"$f":"$S$10+13","v":13},null,{"$f":"C65","v":-9.9737314969149118},0.72434800161762047,23.023076923076921,null,-9.9737314969149118,19.764618107294471,null,null,11.829903723453205,null,null,null,null,null,null,null,null,null,null,"","",""]
[{"$f":"$S$10+14","v":14},null,{"$f":"C66","v":-9.1679219531658234},-3.9936458356569551,23.969230769230769,null,-9.1679219531658234,18.011636166646202,null,null,16.311167748805161,null,null,null,null,null,null,null,null,null,null,"","",""]
[{"$f":"$S$10+13","v":13},null,{"$f":"C67","v":-6.2618519753831414},-7.796743540632221,24.915384615384617,null,-6.2618519753831414,16.752974715909097,null,null,20.022573224714286,null,null,null,null,null,null,null,null,null,null,"","",""]
[{"$f":"$S$10+14","v":14},null,{"$f":"C68","v":-1.9212671735370759},-9.8137012613941348,25.861538461538466,null,-1.9212671735370759,16.459368817245743,null,null,22.230993729102636,null,null,null,null,null,null,null,null,null,null,"","",""]
[{"$f":"$S$10+13","v":13},null,{"$f":"C69","v":2.8594567839868787},-9.5824582910916654,26.807692307692307,null,2.8594567839868787,17.380470936018817,null,null,22.547618583935243,null,null,null,null,null,null,null,null,null,null,"","",""]
[{"$f":"$S$10+14","v":14},null,{"$f":"C70","v":6.9851136524893693},-7.155989607441211,27.753846153846155,null,6.9851136524893693,19.487658569614844,null,null,21.017024695881307,null,null,null,null,null,null,null,null,null,null,"","",""]
[{"$f":"$S$10+13","v":13},null,{"$f":"C71","v":""},"","",null,"","",null,null,"",null,null,null,null,null,null,null,null,null,null,"","",""]
[{"$f":"$S$10+14","v":14},null,{"$f":"C72","v":""},"","",null,"","",null,null,"",null,null,null,null,null,null,null,null,null,null,"","",""]
[{"$f":"$S$10+13","v":13},null,{"$f":"C73","v":""},"","",null,"","",null,null,"",null,null,null,null,null,null,null,null,null,null,"","",""]
[{"$f":"$S$10+14","v":14},null,{"$f":"C74","v":""},"","",null,"","",null,null,"",null,null,null,null,null,null,null,null,null,null,"","",""]
[{"$f":"$S$10+13","v":13},null,null,null,null,null,"","",null,null,"",null,null,null,null,null,null,null,null,null,null,"","",""]
[{"$f":"$S$10+14","v":14},null,{"$f":"C76","v":9.5105651629515346},{"$f":"D76","v":-3.0901699437494763},{"$f":"IF(D94<>\"\",E76+$B$10,\"\")","v":20.5},null,{"$f":"IF(C94<>\"\",C94,\"\")","v":9.5105651629515346},{"$f":"IF(D94<>\"\",E94*SIN($B$16)+D94*COS($B$16),\"\")","v":15.580529242429614},null,null,{"$f":"IF(E94<>\"\",E94*COS($B$16)-D94*SIN($B$16),\"\")","v":13.676485616087499},null,null,null,null,null,null,null,null,null,null,"","",""]
[{"$f":"$S$10+13","v":13},null,{"$f":"C77","v":9.8572608093165108},1.6835704134703791,{"$f":"IF(D95<>\"\",E77+$B$10,\"\")","v":21.446153846153848},null,{"$f":"IF(C95<>\"\",C95,\"\")","v":9.8572608093165108},{"$f":"IF(D95<>\"\",E95*SIN($B$16)+D95*COS($B$16),\"\")","v":18.95595317375416},null,null,{"$f":"IF(E95<>\"\",E95*COS($B$16)-D95*SIN($B$16),\"\")","v":10.170730721263441},null,null,null,null,null,null,null,null,null,null,"","",""]
[{"$f":"$S$10+14","v":14},null,{"$f":"C78","v":7.9457767971375439},6.0716250781871111,22.392307692307689,null,7.9457767971375439,22.122990236078905,null,null,6.9895191459362982,null,null,null,null,null,null,null,null,null,null,"","",""]
[{"$f":"$S$10+13","v":13},null,{"$f":"C79","v":4.2140110777252886},9.0687436085054554,23.338461538461537,null,4.2140110777252886,24.538501297672894,null,null,4.9787399694262584,null,null,null,null,null,null,null,null,null,null,"","",""]
[{"$f":"$S$10+14","v":14},null,{"$f":"C80","v":-0.483133795255069},9.988322268323266,24.284615384615385,null,-0.483133795255069,25.831512776702453,null,null,4.7161503137239738,null,null,null,null,null,null,null,null,null,null,"","",""]
[{"$f":"$S$10+13","v":13},null,{"$f":"C81","v":-5.0695985381358986},8.6196966688004952,25.230769230769234,null,-5.0695985381358986,25.88820221811299,null,null,6.3790181495706308,null,null,null,null,null,null,null,null,null,null,"","",""]
[{"$f":"$S$10+14","v":14},null,{"$f":"C82","v":-8.4946793512152059},5.2764024410613359,26.176923076923075,null,-8.4946793512152059,24.87797364637273,null,null,9.7035123406717858,null,null,null,null,null,null,null,null,null,null,"","",""]
[{"$f":"$S$10+13","v":13},null,{"$f":"C83","v":-9.9737314969149118},0.72434800161762047,27.123076923076923,null,-9.9737314969149118,23.214649145006849,null,null,14.045143177512578,null,null,null,null,null,null,null,null,null,null,"","",""]
[{"$f":"$S$10+14","v":14},null,{"$f":"C84","v":-9.1679219531658234},-3.9936458356569551,28.069230769230771,null,-9.1679219531658234,21.46166720435858,null,null,18.526407202864537,null,null,null,null,null,null,null,null,null,null,"","",""]
[{"$f":"$S$10+13","v":13},null,{"$f":"C85","v":-6.2618519753831414},-7.796743540632221,29.015384615384619,null,-6.2618519753831414,20.203005753621472,null,null,22.237812678773658,null,null,null,null,null,null,null,null,null,null,"","",""]
[{"$f":"$S$10+14","v":14},null,{"$f":"C86","v":-1.9212671735370759},-9.8137012613941348,29.961538461538467,null,-1.9212671735370759,19.909399854958117,null,null,24.446233183162008,null,null,null,null,null,null,null,null,null,null,"","",""]
[{"$f":"$S$10+13","v":13},null,{"$f":"C87","v":2.8594567839868787},-9.5824582910916654,30.907692307692308,null,2.8594567839868787,20.830501973731195,null,null,24.762858037994615,null,null,null,null,null,null,null,null,null,null,"","",""]
[{"$f":"$S$10+14","v":14},null,{"$f":"C88","v":6.9851136524893693},-7.155989607441211,31.853846153846156,null,6.9851136524893693,22.937689607327222,null,null,23.232264149940683,null,null,null,null,null,null,null,null,null,null,"","",""]
[{"$f":"$S$10+13","v":13},null,{"$f":"C89","v":""},"","",null,"","",null,null,"",null,null,null,null,null,null,null,null,null,null,"","",""]
[{"$f":"$S$10+14","v":14},null,{"$f":"C90","v":""},"","",null,"","",null,null,"",null,null,null,null,null,null,null,null,null,null,"","",""]
[{"$f":"$S$10+13","v":13},null,{"$f":"C91","v":""},"","",null,"","",null,null,"",null,null,null,null,null,null,null,null,null,null,"","",""]
[{"$f":"$S$10+14","v":14},null,{"$f":"C92","v":""},"","",null,"","",null,null,"",null,null,null,null,null,null,null,null,null,null,"","",""]
[{"$f":"$S$10+13","v":13}]
[{"$f":"$S$10+14","v":14}]
[{"$f":"$S$10+13","v":13}]
[{"$f":"$S$10+14","v":14}]
[{"$f":"$S$10+13","v":13}]
[{"$f":"$S$10+14","v":14}]
[{"$f":"$S$10+13","v":13}]
[{"$f":"$S$10+14","v":14}]
[{"$f":"$S$10+13","v":13}]
[{"$f":"$S$10+14","v":14}]
[{"$f":"$S$10+13","v":13}]
[{"$f":"$S$10+14","v":14}]
[{"$f":"$S$10+13","v":13}]
[{"$f":"$S$10+14","v":14}]
[{"$f":"$S$10+13","v":13}]
[{"$f":"$S$10+14","v":14}]
[{"$f":"$S$10+13","v":13}]
[{"$f":"$S$10+14","v":14}]
[{"$f":"$S$10+13","v":13}]
[{"$f":"$S$10+14","v":14}]
[{"$f":"$S$10+13","v":13}]
[{"$f":"$S$10+14","v":14}]
[{"$f":"$S$10+13","v":13}]
[{"$f":"$S$10+14","v":14}]
[{"$f":"$S$10+13","v":13}]
[{"$f":"$S$10+14","v":14}]
[{"$f":"$S$10+13","v":13}]
[{"$f":"$S$10+14","v":14}]
[{"$f":"$S$10+13","v":13}]
[{"$f":"$S$10+14","v":14}]
[{"$f":"$S$10+13","v":13}]
[{"$f":"$S$10+14","v":14}]
[{"$f":"$S$10+13","v":13}]
[{"$f":"$S$10+14","v":14}]
[{"$f":"$S$10+13","v":13}]
[{"$f":"$S$10+14","v":14}]
[{"$f":"$S$10+13","v":13}]
[{"$f":"$S$10+14","v":14}]
[{"$f":"$S$10+13","v":13}]
[{"$f":"$S$10+14","v":14}]
[{"$f":"$S$10+13","v":13}]
[{"$f":"$S$10+14","v":14}]
[{"$f":"$S$10+13","v":13}]
[{"$f":"$S$10+14","v":14}]
[{"$f":"$S$10+13","v":13}]
[{"$f":"$S$10+14","v":14}]
[{"$f":"$S$10+13","v":13}]
[{"$f":"$S$10+14","v":14}]
[{"$f":"$S$10+13","v":13}]
[{"$f":"$S$10+14","v":14}]
[{"$f":"$S$10+13","v":13}]
[{"$f":"$S$10+14","v":14}]
[{"$f":"$S$10+13","v":13}]
[{"$f":"$S$10+14","v":14}]
[{"$f":"$S$10+13","v":13}]
[{"$f":"$S$10+14","v":14}]
[{"$f":"$S$10+13","v":13}]
[{"$f":"$S$10+14","v":14}]
[{"$f":"$S$10+13","v":13}]
[{"$f":"$S$10+14","v":14}]
[{"$f":"$S$10+13","v":13}]
[{"$f":"$S$10+14","v":14}]
[{"$f":"$S$10+13","v":13}]
[{"$f":"$S$10+14","v":14}]
[{"$f":"$S$10+13","v":13}]
[{"$f":"$S$10+14","v":14}]
[{"$f":"$S$10+13","v":13}]
[{"$f":"$S$10+14","v":14}]
[{"$f":"$S$10+13","v":13}]
[{"$f":"$S$10+14","v":14}]
[{"$f":"$S$10+13","v":13}]
[{"$f":"$S$10+14","v":14}]
[{"$f":"$S$10+13","v":13}]
[{"$f":"$S$10+14","v":14}]
[{"$f":"$S$10+13","v":13}]
[{"$f":"$S$10+14","v":14}]
[{"$f":"$S$10+13","v":13}]
[{"$f":"$S$10+14","v":14}]
[{"$f":"$S$10+13","v":13}]
[{"$f":"$S$10+14","v":14}]
[{"$f":"$S$10+13","v":13}]
[{"$f":"$S$10+14","v":14}]
[{"$f":"$S$10+13","v":13}]
[{"$f":"$S$10+14","v":14}]
[{"$f":"$S$10+13","v":13}]
[{"$f":"$S$10+14","v":14}]
[{"$f":"$S$10+13","v":13}]
[{"$f":"$S$10+14","v":14}]
[{"$f":"$S$10+13","v":13}]
[{"$f":"$S$10+14","v":14}]
[{"$f":"$S$10+13","v":13}]
[{"$f":"$S$10+14","v":14}]
[{"$f":"$S$10+13","v":13}]
[{"$f":"$S$10+14","v":14}]
[{"$f":"$S$10+13","v":13}]
[{"$f":"$S$10+14","v":14}]
[{"$f":"$S$10+13","v":13}]
[{"$f":"$S$10+14","v":14}]
[{"$f":"$S$10+13","v":13}]
[{"$f":"$S$10+14","v":14}]
[{"$f":"$S$10+13","v":13}]
[{"$f":"$S$10+14","v":14}]
[{"$f":"$S$10+13","v":13}]
[{"$f":"$S$10+14","v":14}]
[{"$f":"$S$10+13","v":13}]
[{"$f":"$S$10+14","v":14}]
[{"$f":"$S$10+13","v":13}]
[{"$f":"$S$10+14","v":14}]
[{"$f":"$S$10+13","v":13}]
[{"$f":"$S$10+14","v":14}]
[{"$f":"$S$10+13","v":13}]
[{"$f":"$S$10+14","v":14}]
[{"$f":"$S$10+13","v":13}]
[{"$f":"$S$10+14","v":14}]
[{"$f":"$S$10+13","v":13}]
[{"$f":"$S$10+14","v":14}]
[{"$f":"$S$10+13","v":13}]
[{"$f":"$S$10+14","v":14}]
[{"$f":"$S$10+13","v":13}]
[{"$f":"$S$10+14","v":14}]
[{"$f":"$S$10+13","v":13}]
[{"$f":"$S$10+14","v":14}]
[{"$f":"$S$10+13","v":13}]
[{"$f":"$S$10+14","v":14}]
[{"$f":"$S$10+13","v":13}]
[{"$f":"$S$10+14","v":14}]
[{"$f":"$S$10+13","v":13}]
[{"$f":"$S$10+14","v":14}]
[{"$f":"$S$10+13","v":13}]
[{"$f":"$S$10+14","v":14}]
[{"$f":"$S$10+13","v":13}]
[{"$f":"$S$10+14","v":14}]
[{"$f":"$S$10+13","v":13}]
[{"$f":"$S$10+14","v":14}]
[{"$f":"$S$10+13","v":13}]
[{"$f":"$S$10+14","v":14}]
[{"$f":"$S$10+13","v":13}]
[{"$f":"$S$10+14","v":14}]
[{"$f":"$S$10+13","v":13}]
[{"$f":"$S$10+14","v":14}]
[{"$f":"$S$10+13","v":13}]
[{"$f":"$S$10+14","v":14}]
[{"$f":"$S$10+13","v":13}]
[{"$f":"$S$10+14","v":14}]
[{"$f":"$S$10+13","v":13}]
[{"$f":"$S$10+14","v":14}]
[{"$f":"$S$10+13","v":13}]
[{"$f":"$S$10+14","v":14}]
[{"$f":"$S$10+13","v":13}]
[{"$f":"$S$10+14","v":14}]
[{"$f":"$S$10+13","v":13}]
[{"$f":"$S$10+14","v":14}]
[{"$f":"$S$10+13","v":13}]
[{"$f":"$S$10+14","v":14}]
[{"$f":"$S$10+13","v":13}]
[{"$f":"$S$10+14","v":14}]
[{"$f":"$S$10+13","v":13}]
[{"$f":"$S$10+14","v":14}]
[{"$f":"$S$10+13","v":13}]
[{"$f":"$S$10+14","v":14}]
[{"$f":"$S$10+13","v":13}]
[{"$f":"$S$10+14","v":14}]
[{"$f":"$S$10+13","v":13}]
[{"$f":"$S$10+14","v":14}]
[{"$f":"$S$10+13","v":13}]
[{"$f":"$S$10+14","v":14}]
[{"$f":"$S$10+13","v":13}]
[{"$f":"$S$10+14","v":14}]
[{"$f":"$S$10+13","v":13}]
[{"$f":"$S$10+14","v":14}]
[{"$f":"$S$10+13","v":13}]
[{"$f":"$S$10+14","v":14}]
[{"$f":"$S$10+13","v":13}]
[{"$f":"$S$10+14","v":14}]
[{"$f":"$S$10+13","v":13}]
[{"$f":"$S$10+14","v":14}]
[{"$f":"$S$10+13","v":13}]
[{"$f":"$S$10+14","v":14}]
[{"$f":"$S$10+13","v":13}]
[{"$f":"$S$10+14","v":14}]
[{"$f":"$S$10+13","v":13}]
[{"$f":"$S$10+14","v":14}]
[{"$f":"$S$10+13","v":13}]
[{"$f":"$S$10+14","v":14}]
[{"$f":"$S$10+13","v":13}]
[{"$f":"$S$10+14","v":14}]
[{"$f":"$S$10+13","v":13}]
[{"$f":"$S$10+14","v":14}]
[{"$f":"$S$10+13","v":13}]
[{"$f":"$S$10+14","v":14}]
[{"$f":"$S$10+13","v":13}]
[{"$f":"$S$10+14","v":14}]
[{"$f":"$S$10+13","v":13}]
[{"$f":"$S$10+14","v":14}]
[{"$f":"$S$10+13","v":13}]
[{"$f":"$S$10+14","v":14}]
[{"$f":"$S$10+13","v":13}]
[{"$f":"$S$10+14","v":14}]
[{"$f":"$S$10+13","v":13}]
[{"$f":"$S$10+14","v":14}]
[{"$f":"$S$10+73","v":73}]
[{"$f":"$S$10+72","v":72}]
[{"$f":"$S$10+73","v":73}]
[{"$f":"$S$10+72","v":72}]
[{"$f":"$S$10+73","v":73}]
[{"$f":"$S$10+72","v":72}]
[{"$f":"$S$10+73","v":73}]
[{"$f":"$S$10+72","v":72}]
[{"$f":"$S$10+73","v":73}]
[{"$f":"$S$10+72","v":72}]
[{"$f":"$S$10+73","v":73}]
[{"$f":"$S$10+72","v":72}]